BEGIN:VCALENDAR
VERSION:2.0
PRODID:-//wp-events-plugin.com//6.4.6.4//EN
TZID:America/Detroit
X-WR-TIMEZONE:America/Detroit
BEGIN:VEVENT
UID:0-469@sites.udmercy.edu
DTSTART;TZID=America/Detroit:20240917T120000
DTEND;TZID=America/Detroit:20240917T120000
DTSTAMP:20240828T175314Z
URL:https://sites.udmercy.edu/campusconnection/events/112th-annual-red-mas
 s/
SUMMARY:112th annual Red Mass
DESCRIPTION:Join Detroit Mercy Law and the legal community in celebrating t
 he 112th annual Red Mass at noon Tuesday\, Sept. 17 inside of Ss. Peter &
 amp\; Paul Church at the Riverfront Campus.\n\nThe Red Mass is an occasion
  for judges\, attorneys\, civic leaders\, and law students of all faiths t
 o come together and pray for blessing and strength in the coming year's wo
 rk.\n\nThis year's Red Mass will be celebrated by Archbishop Allen H. Vign
 eron\, Archdiocese of Detroit. Fr. Joe Daunts\, S.J.\, will serve as the H
 omilist. The Honorable Michael J. Riordan '90\, Michigan Court of Appeals\
 , will lead the Renewal of the Lawyer's Oath of Commitment.\n\nA luncheon 
 reception immediately follows the service in the atrium of Detroit Mercy L
 aw.\nRSVP here.
LOCATION:Riverfront Campus\, University of Detroit Mercy\, 651 East Jeffers
 on Avenue\, Detroit\, Michigan\, 48226\, United States
X-APPLE-STRUCTURED-LOCATION;VALUE=URI;X-ADDRESS=651 East Jefferson Avenue\,
  Detroit\, Michigan\, 48226\, United States;X-APPLE-RADIUS=100;X-TITLE=Riv
 erfront Campus\, University of Detroit Mercy:geo:0,0
END:VEVENT
BEGIN:VTIMEZONE
TZID:America/Detroit
X-LIC-LOCATION:America/Detroit
BEGIN:DAYLIGHT
DTSTART:20240310T030000
TZOFFSETFROM:-0500
TZOFFSETTO:-0400
TZNAME:EDT
END:DAYLIGHT
END:VTIMEZONE
END:VCALENDAR