BEGIN:VCALENDAR
VERSION:2.0
PRODID:-//wp-events-plugin.com//6.4.6.4//EN
TZID:America/Detroit
X-WR-TIMEZONE:America/Detroit
BEGIN:VEVENT
UID:0-476@sites.udmercy.edu
DTSTART;TZID=America/Detroit:20241003T120000
DTEND;TZID=America/Detroit:20241003T140000
DTSTAMP:20240910T134342Z
URL:https://sites.udmercy.edu/campusconnection/events/2024-wellness-expo/
SUMMARY:2024 Wellness Expo
DESCRIPTION:The 2024 Wellness Expo will take place on Thursday\, Oct. 3 fro
 m 12-2 p.m. in the Student Union Ballroom. The expo is free for all studen
 ts and employees.\n\nMany local wellness vendors will be present\, such as
  Skin Bar\, who will be giving out skin care products\, and Healthy Eats w
 ith Dee\, who will be distributing free healthy juice.\n\nRaffles\, snacks
 \, and fun activities will be provided! In addition\, we will have our fav
 orite guests back\, the therapy dogs!\n\nAlso\, specifically for employees
 \, we will have all UDM benefit companies there and free blood pressure re
 adings!\n\nWe look forward to seeing you there.
LOCATION:Student Union Ballroom\, McNichols Campus\, 4001 W. McNichols\, De
 troit\, MI\, 48221\, United States
X-APPLE-STRUCTURED-LOCATION;VALUE=URI;X-ADDRESS=4001 W. McNichols\, Detroit
 \, MI\, 48221\, United States;X-APPLE-RADIUS=100;X-TITLE=Student Union Bal
 lroom\, McNichols Campus:geo:0,0
END:VEVENT
BEGIN:VTIMEZONE
TZID:America/Detroit
X-LIC-LOCATION:America/Detroit
BEGIN:DAYLIGHT
DTSTART:20240310T030000
TZOFFSETFROM:-0500
TZOFFSETTO:-0400
TZNAME:EDT
END:DAYLIGHT
END:VTIMEZONE
END:VCALENDAR