BEGIN:VCALENDAR
VERSION:2.0
PRODID:-//wp-events-plugin.com//6.4.6.4//EN
TZID:America/Detroit
X-WR-TIMEZONE:America/Detroit
BEGIN:VEVENT
UID:0-755@sites.udmercy.edu
DTSTART;TZID=America/Detroit:20250313T120000
DTEND;TZID=America/Detroit:20250313T150000
DTSTAMP:20250225T163204Z
URL:https://sites.udmercy.edu/campusconnection/events/2025-winter-career-a
 nd-co-op-fair-rescheduled/
SUMMARY:2025 Winter Career and Co-op Fair
DESCRIPTION:The Center for Career &amp\; Professional Development and the C
 ollege of Engineering &amp\; Science have rescheduled the 2025 Winter Care
 er and Co-op Fair for Thursday\, March 13 from 12-3 p.m. All majors are we
 lcome to attend!\n\nThe fair will be held inside of the Student Union Ball
 room and is open to all current students as well as recent UDM graduates.\
 n\nSponsored by Alliance Catholic Credit Union\, the fair will feature mor
 e than 60 organizations and is a great opportunity for students to meet wi
 th a variety of employers and graduate schools to discuss full-time employ
 ment\, graduate school options and co-op and internship positions\, as wel
 l as volunteering opportunities.\n\nStudents will have the opportunity to 
 take free professional headshots and be entered into a drawing to win a $5
 0 gift card for attending.\n\nFor more information or with any questions\,
  please visit the Center for Career &amp\; Professional Development direct
 ly or call 313-993-1017 or email careerlink@udmercy.edu. Current students 
 may pre-register and view list of participating organizations through thei
 r Handshake accounts.\nPre-register now!
LOCATION:Student Union Ballroom\, McNichols Campus\, 4001 W. McNichols\, De
 troit\, MI\, 48221\, United States
X-APPLE-STRUCTURED-LOCATION;VALUE=URI;X-ADDRESS=4001 W. McNichols\, Detroit
 \, MI\, 48221\, United States;X-APPLE-RADIUS=100;X-TITLE=Student Union Bal
 lroom\, McNichols Campus:geo:0,0
END:VEVENT
BEGIN:VTIMEZONE
TZID:America/Detroit
X-LIC-LOCATION:America/Detroit
BEGIN:DAYLIGHT
DTSTART:20250309T030000
TZOFFSETFROM:-0500
TZOFFSETTO:-0400
TZNAME:EDT
END:DAYLIGHT
END:VTIMEZONE
END:VCALENDAR