BEGIN:VCALENDAR
VERSION:2.0
PRODID:-//wp-events-plugin.com//6.4.6.4//EN
TZID:America/Detroit
X-WR-TIMEZONE:America/Detroit
BEGIN:VEVENT
UID:0-1026@sites.udmercy.edu
DTSTART;TZID=America/Detroit:20260227T083000
DTEND;TZID=America/Detroit:20260227T133000
DTSTAMP:20260205T220436Z
URL:https://sites.udmercy.edu/campusconnection/events/2026-epiic-industry-
 academic-summit/
SUMMARY:2026 EPIIC Industry-Academic Summit
DESCRIPTION:Detroit Mercy will host the 2026 EPIIC (Enabling Partnerships t
 o Increase Innovation Capacity) Industry-Academia Summit\, connecting entr
 epreneurs with faculty experts and resources from four emerging research u
 niversities in Michigan.\n\nThe summit will take place on Friday\, Feb. 27
 \, from 8:30 a.m.-1:30 p.m.\, in the Student Union Ballroom on the McNicho
 ls Campus.\n\nThe summit will feature panel discussions with technology le
 aders in AI\, cybersecurity\, biomedical innovation\, robotics\, electrifi
 cation and mobility\, along with information on grants and partnership sup
 port from the universities as well as other economic development organizat
 ions.\n\nDetroit Mercy will be joined by the following universities:\n\n 	
 Andrews University\n 	Kettering University\n 	Lawrence Technological Unive
 rsity\n\nThese universities offer expertise in cutting-edge technical fiel
 ds and want to connect with small businesses and start‑ups to spark coll
 aboration and accelerate research and development.\n\nAdmission is free fo
 r all entrepreneurs.\n\nFor more information\, please contact Emily Fleury
  at fleuryej@udmercy.edu.\nRegister for EPIIC Industry-Academia Summit her
 e.
LOCATION:Student Union Ballroom\, McNichols Campus\, 4001 W. McNichols\, De
 troit\, MI\, 48221\, United States
X-APPLE-STRUCTURED-LOCATION;VALUE=URI;X-ADDRESS=4001 W. McNichols\, Detroit
 \, MI\, 48221\, United States;X-APPLE-RADIUS=100;X-TITLE=Student Union Bal
 lroom\, McNichols Campus:geo:0,0
END:VEVENT
BEGIN:VTIMEZONE
TZID:America/Detroit
X-LIC-LOCATION:America/Detroit
BEGIN:STANDARD
DTSTART:20251102T010000
TZOFFSETFROM:-0400
TZOFFSETTO:-0500
TZNAME:EST
END:STANDARD
END:VTIMEZONE
END:VCALENDAR