BEGIN:VCALENDAR
VERSION:2.0
PRODID:-//wp-events-plugin.com//6.4.6.4//EN
TZID:America/Detroit
X-WR-TIMEZONE:America/Detroit
BEGIN:VEVENT
UID:0-25@sites.udmercy.edu
DTSTART;TZID=America/Detroit:20220910T110000
DTEND;TZID=America/Detroit:20220910T110000
DTSTAMP:20220810T153805Z
URL:https://sites.udmercy.edu/campusconnection/events/36th-annual-detroit-
 mercy-titans-cross-country-invitational/
SUMMARY:36th Annual Detroit Mercy Titans Cross Country Invitational
DESCRIPTION:Visit DetroitTitans.com for full information on the 36th annual
  Detroit Mercy Titans cross country invitational.
LOCATION:Cass Benton Park\, 18418 Northville Road\, Northville\, Michigan\,
  48168\, United States
X-APPLE-STRUCTURED-LOCATION;VALUE=URI;X-ADDRESS=18418 Northville Road\, Nor
 thville\, Michigan\, 48168\, United States;X-APPLE-RADIUS=100;X-TITLE=Cass
  Benton Park:geo:0,0
END:VEVENT
BEGIN:VTIMEZONE
TZID:America/Detroit
X-LIC-LOCATION:America/Detroit
BEGIN:DAYLIGHT
DTSTART:20220313T030000
TZOFFSETFROM:-0500
TZOFFSETTO:-0400
TZNAME:EDT
END:DAYLIGHT
END:VTIMEZONE
END:VCALENDAR