BEGIN:VCALENDAR
VERSION:2.0
PRODID:-//wp-events-plugin.com//6.4.6.4//EN
TZID:America/Detroit
X-WR-TIMEZONE:America/Detroit
BEGIN:VEVENT
UID:0-296@sites.udmercy.edu
DTSTART;TZID=America/Detroit:20231110T120000
DTEND;TZID=America/Detroit:20231110T130000
DTSTAMP:20231030T152817Z
URL:https://sites.udmercy.edu/campusconnection/events/a-time-to-breathe-6/
SUMMARY:A Time to Breathe
DESCRIPTION:Join colleagues for “A Time to Breathe\,” on Friday\, Nov.
  10 from 12-1 p.m.\n\nPause the workday and join fellow Detroit Mercy co
 lleagues for a time of reflection and sharing with “A Time to Breathe.
 ” The event will take place in the Student Union\, Room 208\, located on
  the second floor outside of the ballroom. Those attending may bring their
  own lunch if they wish to eat during the gathering.\n\nThis is an opportu
 nity for all Detroit Mercy staff and faculty to step away from the busines
 s of the workday to just take the time to breathe and build community with
  colleagues.\n\nTo register\, please email Judy Wernette at wernetjm@udme
 rcy.edu and indicate “A Time to Breathe” in the subject line.
LOCATION:Student Union\, Room 208\, 4001 W. McNichols Road\, Detroit\, Mich
 igan\, 48221\, United States
X-APPLE-STRUCTURED-LOCATION;VALUE=URI;X-ADDRESS=4001 W. McNichols Road\, De
 troit\, Michigan\, 48221\, United States;X-APPLE-RADIUS=100;X-TITLE=Studen
 t Union\, Room 208:geo:0,0
END:VEVENT
BEGIN:VTIMEZONE
TZID:America/Detroit
X-LIC-LOCATION:America/Detroit
BEGIN:STANDARD
DTSTART:20231105T010000
TZOFFSETFROM:-0400
TZOFFSETTO:-0500
TZNAME:EST
END:STANDARD
END:VTIMEZONE
END:VCALENDAR