BEGIN:VCALENDAR
VERSION:2.0
PRODID:-//wp-events-plugin.com//6.4.6.4//EN
TZID:America/Detroit
X-WR-TIMEZONE:America/Detroit
BEGIN:VEVENT
UID:0-329@sites.udmercy.edu
DTSTART;TZID=America/Detroit:20240308T120000
DTEND;TZID=America/Detroit:20240308T130000
DTSTAMP:20240104T212423Z
URL:https://sites.udmercy.edu/campusconnection/events/a-time-to-breathe-9/
SUMMARY:A Time to Breathe
DESCRIPTION:Join colleagues for "A Time to Breathe" on Friday\, March 8 fr
 om 12-1 p.m.\n\nPause the workday and join fellow Detroit Mercy colleagues
  for a time of reflection and sharing inside of the Student Union\, Room 2
 08.\n\nThis opportunity is for all UDM staff and faculty to step away from
  the business of the workday to just take the time to breathe and build co
 mmunity with colleagues. Those attending may bring their own lunch if they
  wish to eat during the gathering.\n\nTo register\, please email Judy Wern
 ette at wernetjm@udmercy.edu and indicate "A Time to Breathe" on the subje
 ct line.
LOCATION:Room 208\, Student Union\, 4001 W. McNichols Road\, Detroit\, Mich
 igan\, 48221\, United States
X-APPLE-STRUCTURED-LOCATION;VALUE=URI;X-ADDRESS=4001 W. McNichols Road\, De
 troit\, Michigan\, 48221\, United States;X-APPLE-RADIUS=100;X-TITLE=Room 2
 08\, Student Union:geo:0,0
END:VEVENT
BEGIN:VTIMEZONE
TZID:America/Detroit
X-LIC-LOCATION:America/Detroit
BEGIN:STANDARD
DTSTART:20231105T010000
TZOFFSETFROM:-0400
TZOFFSETTO:-0500
TZNAME:EST
END:STANDARD
END:VTIMEZONE
END:VCALENDAR