BEGIN:VCALENDAR
VERSION:2.0
PRODID:-//wp-events-plugin.com//6.4.6.4//EN
TZID:America/Detroit
X-WR-TIMEZONE:America/Detroit
BEGIN:VEVENT
UID:0-672@sites.udmercy.edu
DTSTART;TZID=America/Detroit:20250207T180000
DTEND;TZID=America/Detroit:20250207T210000
DTSTAMP:20250108T202555Z
URL:https://sites.udmercy.edu/campusconnection/events/adventure-series-win
 ter-ski-trip/
SUMMARY:Adventure Series winter ski trip
DESCRIPTION:Got the winter blues? Grab some friends and join University Rec
 reation for an exciting skiing adventure at Mt. Brighton on Friday\, Feb. 
 7 from 6-9 p.m.\n\nTickets are just $20 and include admission along with y
 our choice of ski or snowboard rental. \n\nLimited transportation is avail
 able\, so be sure to secure your spot early. \n\nDon't miss this opportuni
 ty to get outside to hit the slopes and enjoy a fun evening with fellow st
 udents and staff!\nSIGN UP HERE!
LOCATION:Mt. Brighton\, 4141 Bauer Rd.\, Brighton\, MI\, 48116\, United Sta
 tes
X-APPLE-STRUCTURED-LOCATION;VALUE=URI;X-ADDRESS=4141 Bauer Rd.\, Brighton\,
  MI\, 48116\, United States;X-APPLE-RADIUS=100;X-TITLE=Mt. Brighton:geo:0,
 0
END:VEVENT
BEGIN:VTIMEZONE
TZID:America/Detroit
X-LIC-LOCATION:America/Detroit
BEGIN:STANDARD
DTSTART:20241103T010000
TZOFFSETFROM:-0400
TZOFFSETTO:-0500
TZNAME:EST
END:STANDARD
END:VTIMEZONE
END:VCALENDAR