BEGIN:VCALENDAR
VERSION:2.0
PRODID:-//wp-events-plugin.com//6.4.6.4//EN
TZID:America/Detroit
X-WR-TIMEZONE:America/Detroit
BEGIN:VEVENT
UID:0-306@sites.udmercy.edu
DTSTART;TZID=America/Detroit:20231114T180000
DTEND;TZID=America/Detroit:20231114T180000
DTSTAMP:20231108T163618Z
URL:https://sites.udmercy.edu/campusconnection/events/african-american-stu
 dies-program-webinar/
SUMMARY:African American Studies program webinar
DESCRIPTION:The African American Studies program at Detroit Mercy is produc
 ing a Zoom webinar on the ongoing crises in the Democratic Republic of Con
 go (DRC)\, efforts to resettle refugees in Michigan and the role our consu
 mption plays in fueling violence and displacement. The webinar is set for
  Tuesday\, Nov. 14 at 6 p.m.\n\nIt’ll feature:\n\n 	Charles Tshimanga-K
 ashama\, Associate Professor of History at the University of Nevada-Reno. 
 He is the author of Youth\, Education and Society in the Congo/Kinshasa\,
  1890-1960 (2001)\; and co-author of The Bakongo Alliance (Abako) and Th
 e Independence of Belgian Congo: Ten Years of Kongo Nationalism\, 1950-196
 0 (2003).\n 	Jado Ndaruhuye\, Vice President of the Congolese Banyamuleng
 e in the United States and Refugee Public Health Community Engagement Coor
 dinator at Bethany Christian Services of Michigan.\n\nWe look forward to y
 ou joining us and please pass along to word to any other interested partie
 s! All are welcome.\nRegister now!
END:VEVENT
BEGIN:VTIMEZONE
TZID:America/Detroit
X-LIC-LOCATION:America/Detroit
BEGIN:STANDARD
DTSTART:20231105T010000
TZOFFSETFROM:-0400
TZOFFSETTO:-0500
TZNAME:EST
END:STANDARD
END:VTIMEZONE
END:VCALENDAR