BEGIN:VCALENDAR
VERSION:2.0
PRODID:-//wp-events-plugin.com//6.4.6.4//EN
TZID:America/Detroit
X-WR-TIMEZONE:America/Detroit
BEGIN:VEVENT
UID:0-346@sites.udmercy.edu
DTSTART;TZID=America/Detroit:20240313T173000
DTEND;TZID=America/Detroit:20240313T173000
DTSTAMP:20240123T155158Z
URL:https://sites.udmercy.edu/campusconnection/events/an-era-of-global-ins
 ecurity/
SUMMARY:An Era of Global Insecurity
DESCRIPTION:Detroit Mercy alumnus Bill Priestap\, a recognized leader in na
 tional security\, will give a free talk\, "An Era of Global Insecurity\," 
 on Wednesday\, March 13 at 5:30 p.m.\n\nThe event is open to all and will 
 take place inside of the Student Union Ballroom.\n\nPriestap is co-founder
  of Trenchcoat Advisors and has a particular expertise in business securit
 y risks. As the former head of the FBI Counterintelligence Division\, his 
 responsibilities included the development and implementation of the organi
 zation's global strategy to counter foreign nations' intelligence efforts 
 against the United States.\n\nThe event is being hosted by the Center for 
 Practice and Research in Management and Ethics (PRIME Center).\nRegister n
 ow for the event!
LOCATION:Student Union Ballroom\, McNichols Campus\, 4001 W. McNichols\, De
 troit\, MI\, 48221\, United States
X-APPLE-STRUCTURED-LOCATION;VALUE=URI;X-ADDRESS=4001 W. McNichols\, Detroit
 \, MI\, 48221\, United States;X-APPLE-RADIUS=100;X-TITLE=Student Union Bal
 lroom\, McNichols Campus:geo:0,0
END:VEVENT
BEGIN:VTIMEZONE
TZID:America/Detroit
X-LIC-LOCATION:America/Detroit
BEGIN:DAYLIGHT
DTSTART:20240310T030000
TZOFFSETFROM:-0500
TZOFFSETTO:-0400
TZNAME:EDT
END:DAYLIGHT
END:VTIMEZONE
END:VCALENDAR