BEGIN:VCALENDAR
VERSION:2.0
PRODID:-//wp-events-plugin.com//6.4.6.4//EN
TZID:America/Detroit
X-WR-TIMEZONE:America/Detroit
BEGIN:VEVENT
UID:0-135@sites.udmercy.edu
DTSTART;TZID=America/Detroit:20221216T110000
DTEND;TZID=America/Detroit:20221216T124500
DTSTAMP:20221201T221822Z
URL:https://sites.udmercy.edu/campusconnection/events/animated-short-film-
 festival/
SUMMARY:Animated short film festival
DESCRIPTION:Join students from Detroit Mercy’s Computer Animation and Voi
 ce Acting class as they present animated short films they wrote\, directed
 \, performed\, edited and produced during the 2022 semester.\nThe film fes
 tival will be held Friday\, Dec. 16 from 11 a.m. to 12:50 p.m. in the Ex
 hibition Space of the Warren Loranger Architecture Building.\nThe event is
  FREE and the course is supported by a grant from the Center for Excellen
 ce in Teaching &amp\; Learning (CETL).
LOCATION:Loranger Architecture Exhibition Space\, 4001 W. McNichols Road\, 
 Detroit\, Michigan\, 48221\, United States
X-APPLE-STRUCTURED-LOCATION;VALUE=URI;X-ADDRESS=4001 W. McNichols Road\, De
 troit\, Michigan\, 48221\, United States;X-APPLE-RADIUS=100;X-TITLE=Lorang
 er Architecture Exhibition Space:geo:0,0
END:VEVENT
BEGIN:VTIMEZONE
TZID:America/Detroit
X-LIC-LOCATION:America/Detroit
BEGIN:STANDARD
DTSTART:20221106T010000
TZOFFSETFROM:-0400
TZOFFSETTO:-0500
TZNAME:EST
END:STANDARD
END:VTIMEZONE
END:VCALENDAR