BEGIN:VCALENDAR
VERSION:2.0
PRODID:-//wp-events-plugin.com//6.4.6.4//EN
TZID:America/Detroit
X-WR-TIMEZONE:America/Detroit
BEGIN:VEVENT
UID:0-764@sites.udmercy.edu
DTSTART;TZID=America/Detroit:20250402T184500
DTEND;TZID=America/Detroit:20250402T210000
DTSTAMP:20250227T164805Z
URL:https://sites.udmercy.edu/campusconnection/events/annual-uca-jesuit-ma
 rtyrs-fundraiser-dinner/
SUMMARY:Annual UCA Jesuit Martyrs Fundraiser dinner
DESCRIPTION:All are invited to enjoy an evening of Salvadoran pupusas\, cul
 tural expression and fellowship at the Universidad Centroamericana (UCA) J
 esuit Martyrs Fundraiser dinner on Wednesday\, April 2 at 6:45 p.m. in the
  Student Union Ballroom on the McNichols Campus. Learn about contemporary 
 Central America and help raise funds for an important scholarship!\n\nThis
  scholarship\, named after the six Jesuits\, their housekeeper and her dau
 ghter who were killed at UCA in November 1989\, funds university scholarsh
 ips for students from underprivileged families in El Salvador.\n\nMusic an
 d a Salvadoran dinner will be provided. All funds raised will benefit the 
 UCA Jesuit Martyrs Scholarship\, which was founded by Dean Brackley\, S.J.
 \n\nKeynote speaker Padre Melo\, who defends the rights of indigenous peop
 le\, water defenders and campesinos\, will share his memories of Fr. Brack
 ley. Melo was director of development for Radio Progreso and ERIC for over
  20 years. \n\nThis event is free for Detroit Mercy students. For all othe
 rs\, a donation for the UCA Jesuit Martyrs scholarship is requested.\n\nTh
 e event is co-sponsored by CLASA\, the Jesuit Community at Detroit Mercy\,
  Languages and Cultural Training\, Latinx Student Union and the Office of 
 Mission Integration.\n\nFor more information\, please contact Gail Presbey
  at presbegm@udmercy.edu or visit udmercy.edu/special/clasa.\nRegister for
  CLASA dinner here!
LOCATION:Student Union Ballroom\, McNichols Campus\, 4001 W. McNichols\, De
 troit\, MI\, 48221\, United States
X-APPLE-STRUCTURED-LOCATION;VALUE=URI;X-ADDRESS=4001 W. McNichols\, Detroit
 \, MI\, 48221\, United States;X-APPLE-RADIUS=100;X-TITLE=Student Union Bal
 lroom\, McNichols Campus:geo:0,0
END:VEVENT
BEGIN:VTIMEZONE
TZID:America/Detroit
X-LIC-LOCATION:America/Detroit
BEGIN:DAYLIGHT
DTSTART:20250309T030000
TZOFFSETFROM:-0500
TZOFFSETTO:-0400
TZNAME:EDT
END:DAYLIGHT
END:VTIMEZONE
END:VCALENDAR