BEGIN:VCALENDAR
VERSION:2.0
PRODID:-//wp-events-plugin.com//6.4.6.4//EN
TZID:America/Detroit
X-WR-TIMEZONE:America/Detroit
BEGIN:VEVENT
UID:0-115@sites.udmercy.edu
DTSTART;TZID=America/Detroit:20221114T090000
DTEND;TZID=America/Detroit:20221114T113000
DTSTAMP:20221031T185942Z
URL:https://sites.udmercy.edu/campusconnection/events/art-of-hospitality-r
 etreat/
SUMMARY:Art of Hospitality Retreat
DESCRIPTION:Have you ever wondered how you can create a more welcoming clas
 sroom\, or participate in building a more welcoming work environment or co
 mmunity?\n\nCome and join Fr. Patrick Kelly\, SJ and Sr. Judy Mouch\, RSM 
 for a half-day retreat set for Monday\, Nov. 14 from 9-11:30 a.m. in Lans
 ing-Reilly Hall\, which is followed by lunch.\n\nThe retreat’s message i
 s “The Art of Hospitality\,” to learn about the spiritual resources av
 ailable in the Jesuit and Mercy heritages to foster more welcoming spaces.
 \n\nIf interested\, please RSVP to fichtere@udmercy.edu with the subject
  “Half Day Retreat\, Oct. 14” to register.
LOCATION:Lansing-Reilly Hall\, 4001 W. McNichols Road\, Detroit\, Michigan\
 , 48221\, United States
X-APPLE-STRUCTURED-LOCATION;VALUE=URI;X-ADDRESS=4001 W. McNichols Road\, De
 troit\, Michigan\, 48221\, United States;X-APPLE-RADIUS=100;X-TITLE=Lansin
 g-Reilly Hall:geo:0,0
END:VEVENT
BEGIN:VTIMEZONE
TZID:America/Detroit
X-LIC-LOCATION:America/Detroit
BEGIN:STANDARD
DTSTART:20221106T010000
TZOFFSETFROM:-0400
TZOFFSETTO:-0500
TZNAME:EST
END:STANDARD
END:VTIMEZONE
END:VCALENDAR