BEGIN:VCALENDAR
VERSION:2.0
PRODID:-//wp-events-plugin.com//6.4.6.4//EN
TZID:America/Detroit
X-WR-TIMEZONE:America/Detroit
BEGIN:VEVENT
UID:0-763@sites.udmercy.edu
DTSTART;TZID=America/Detroit:20250305T120000
DTEND;TZID=America/Detroit:20250305T120000
DTSTAMP:20250226T192220Z
URL:https://sites.udmercy.edu/campusconnection/events/ash-wednesday-mass/
SUMMARY:Ash Wednesday Mass
DESCRIPTION:Ash Wednesday is on Wednesday\, March 5. Catholics traditionall
 y mark this day by fasting and abstaining from meat. They mark their foreh
 ead with ashes as a sign of repentance and turning their hearts towards Go
 d. This date begins the season of Lent\, a time of contrition and renewal 
 leading up to Easter.\n\nMass for Ash Wednesday will be celebrated Wednesd
 ay\, March 5 at noon on the McNichols Campus in the St. Ignatius Chapel\, 
 located in the Commerce &amp\; Finance Building. The distribution of ashes
  will take place during the mass.\n\nAll are invited to attend.
LOCATION:St. Ignatius Chapel\, 4001 W. McNichols Road\, Detroit\, MI\, Unit
 ed States
X-APPLE-STRUCTURED-LOCATION;VALUE=URI;X-ADDRESS=4001 W. McNichols Road\, De
 troit\, MI\, United States;X-APPLE-RADIUS=100;X-TITLE=St. Ignatius Chapel:
 geo:0,0
END:VEVENT
BEGIN:VTIMEZONE
TZID:America/Detroit
X-LIC-LOCATION:America/Detroit
BEGIN:STANDARD
DTSTART:20241103T010000
TZOFFSETFROM:-0400
TZOFFSETTO:-0500
TZNAME:EST
END:STANDARD
END:VTIMEZONE
END:VCALENDAR