BEGIN:VCALENDAR
VERSION:2.0
PRODID:-//wp-events-plugin.com//6.4.6.4//EN
TZID:America/Detroit
X-WR-TIMEZONE:America/Detroit
BEGIN:VEVENT
UID:0-466@sites.udmercy.edu
DTSTART;TZID=America/Detroit:20240903T190000
DTEND;TZID=America/Detroit:20240903T190000
DTSTAMP:20240827T184432Z
URL:https://sites.udmercy.edu/campusconnection/events/audition-for-dmtc-fa
 ll-productions/
SUMMARY:Audition for DMTC fall productions
DESCRIPTION:All Detroit Mercy students are welcome to audition for Detroit 
 Mercy Theatre Company's fall 2024 productions on Tuesday\, Sept. 3 at 7 p.
 m. in Room 164 of Reno Hall.\n\nNo experience is required to audition. Tho
 se interested are required to prepare two contrasting monologues that are
  each 60-90 seconds in length. A student's total audition should not excee
 d three minutes.\n\nDMTC's fall productions include Witch\; Ripped\, a Th
 eatreLab staged reading\; and The Adventure of the Italian Nobleman\, a li
 ve radio play to be performed during UDM's Homecoming.\n\nMore information
  can be found on DMTC's website.\n\nContact DMTC at theatre@udmercy.edu or
  313-993-3270 with questions.
LOCATION:Reno Hall\, Room 164\, 4001 W. McNichols Road\, Detroit\, Michigan
 \, 48221\, United States
X-APPLE-STRUCTURED-LOCATION;VALUE=URI;X-ADDRESS=4001 W. McNichols Road\, De
 troit\, Michigan\, 48221\, United States;X-APPLE-RADIUS=100;X-TITLE=Reno H
 all\, Room 164:geo:0,0
END:VEVENT
BEGIN:VTIMEZONE
TZID:America/Detroit
X-LIC-LOCATION:America/Detroit
BEGIN:DAYLIGHT
DTSTART:20240310T030000
TZOFFSETFROM:-0500
TZOFFSETTO:-0400
TZNAME:EDT
END:DAYLIGHT
END:VTIMEZONE
END:VCALENDAR