BEGIN:VCALENDAR
VERSION:2.0
PRODID:-//wp-events-plugin.com//6.4.6.4//EN
TZID:America/Detroit
X-WR-TIMEZONE:America/Detroit
BEGIN:VEVENT
UID:0-301@sites.udmercy.edu
DTSTART;TZID=America/Detroit:20231113T190000
DTEND;TZID=America/Detroit:20231113T190000
DTSTAMP:20231102T170234Z
URL:https://sites.udmercy.edu/campusconnection/events/auditions-for-dmtcs-
 photograph-51/
SUMMARY:Auditions for DMTC's Photograph 51
DESCRIPTION:All students are welcome to audition for Detroit Mercy Theatre 
 Company's second mainstage show of the school year\, Photograph 51\, on Mo
 nday\, Nov. 13 at 7 p.m. The auditions will take place in Reno Hall\, Room
  164.\n\nStudents auditioning for the show need to prepare a 60-90 second 
 contemporary monologue\, preferable set in the style of Photograph 51.\n\n
 Set in the 1950s\, the play by Anna Ziegler\, explores the intense competi
 tion between scientists as they race to unravel the secrets of the double 
 helix structure of DNA. At the heart of the story is Rosalind Franklin\, a
  brilliant and determined scientist whose work is overlooked and undervalu
 ed due to her gender.\n\nPhotograph 51 is set to run in consecutive weeken
 ds\, Feb. 9-11 and Feb. 16-18 at Marlene Boll Theatre in downtown Detroit.
 \n\nWith any questions\, please contact theatre@udmercy.edu.\nMore on the 
 production.
LOCATION:Reno Hall\, Room 164\, 4001 W. McNichols Road\, Detroit\, Michigan
 \, 48221\, United States
X-APPLE-STRUCTURED-LOCATION;VALUE=URI;X-ADDRESS=4001 W. McNichols Road\, De
 troit\, Michigan\, 48221\, United States;X-APPLE-RADIUS=100;X-TITLE=Reno H
 all\, Room 164:geo:0,0
END:VEVENT
BEGIN:VTIMEZONE
TZID:America/Detroit
X-LIC-LOCATION:America/Detroit
BEGIN:STANDARD
DTSTART:20231105T010000
TZOFFSETFROM:-0400
TZOFFSETTO:-0500
TZNAME:EST
END:STANDARD
END:VTIMEZONE
END:VCALENDAR