BEGIN:VCALENDAR
VERSION:2.0
PRODID:-//wp-events-plugin.com//6.4.6.4//EN
TZID:America/Detroit
X-WR-TIMEZONE:America/Detroit
BEGIN:VEVENT
UID:0-1029@sites.udmercy.edu
DTSTART;TZID=America/Detroit:20260220T173000
DTEND;TZID=America/Detroit:20260220T173000
DTSTAMP:20260209T184530Z
URL:https://sites.udmercy.edu/campusconnection/events/black-excellence-tai
 lgate-greek-night/
SUMMARY:Black Excellence Tailgate &amp\; Greek Night
DESCRIPTION:Kick off game night while celebrating Black History Month at th
 e Black Excellence Tailgate &amp\; Greek Night pregame event on Friday\, F
 ebruary 20. All are invited.\n\nThe evening begins at 5:30 p.m. in the Whi
 tty Student Fitness Center with camaraderie and food trucks\, and just bef
 ore tipoff of the Titans men's basketball game\, attendees will join a Cas
 s Tech High School Marching Band drumline-led march from the Student Fitne
 ss Center into Calihan Hall.\n\nThe Detroit Mercy Titans will then take on
  the Milwaukee Panthers at 7 p.m.\, with a special Black History Month cel
 ebration featuring a Divine Nine performance at halftime.\n\nThis event is
  co‑hosted by the Black Student Union and University Athletics.
LOCATION:Whitty Student Fitness Center\, 4001 W. McNichols Road\, Detroit\,
  MI\, 48221\, United States
X-APPLE-STRUCTURED-LOCATION;VALUE=URI;X-ADDRESS=4001 W. McNichols Road\, De
 troit\, MI\, 48221\, United States;X-APPLE-RADIUS=100;X-TITLE=Whitty Stude
 nt Fitness Center:geo:0,0
END:VEVENT
BEGIN:VTIMEZONE
TZID:America/Detroit
X-LIC-LOCATION:America/Detroit
BEGIN:STANDARD
DTSTART:20251102T010000
TZOFFSETFROM:-0400
TZOFFSETTO:-0500
TZNAME:EST
END:STANDARD
END:VTIMEZONE
END:VCALENDAR