BEGIN:VCALENDAR
VERSION:2.0
PRODID:-//wp-events-plugin.com//6.4.6.4//EN
TZID:America/Detroit
X-WR-TIMEZONE:America/Detroit
BEGIN:VEVENT
UID:0-350@sites.udmercy.edu
DTSTART;TZID=America/Detroit:20240201T180000
DTEND;TZID=America/Detroit:20240201T193000
DTSTAMP:20240129T215802Z
URL:https://sites.udmercy.edu/campusconnection/events/black-history-trivia
 /
SUMMARY:Black History Trivia
DESCRIPTION:Test your knowledge about African American firsts\, famous Afri
 can American trailblazers\, Black athletes and entrepreneurs. Food and ref
 reshments will be provided.\n\nThis event is co-sponsored by Student Life\
 , Campus Activity Board and the Hive.
LOCATION:Student Union\, Lower Level\, 4001 W. McNichols Road\, Detroit\, M
 ichigan\, 48221\, United States
X-APPLE-STRUCTURED-LOCATION;VALUE=URI;X-ADDRESS=4001 W. McNichols Road\, De
 troit\, Michigan\, 48221\, United States;X-APPLE-RADIUS=100;X-TITLE=Studen
 t Union\, Lower Level:geo:0,0
END:VEVENT
BEGIN:VTIMEZONE
TZID:America/Detroit
X-LIC-LOCATION:America/Detroit
BEGIN:STANDARD
DTSTART:20231105T010000
TZOFFSETFROM:-0400
TZOFFSETTO:-0500
TZNAME:EST
END:STANDARD
END:VTIMEZONE
END:VCALENDAR