BEGIN:VCALENDAR
VERSION:2.0
PRODID:-//wp-events-plugin.com//6.4.6.4//EN
TZID:America/Detroit
X-WR-TIMEZONE:America/Detroit
BEGIN:VEVENT
UID:0-738@sites.udmercy.edu
DTSTART;TZID=America/Detroit:20250225T124500
DTEND;TZID=America/Detroit:20250225T133000
DTSTAMP:20250205T183039Z
URL:https://sites.udmercy.edu/campusconnection/events/career-readiness-wor
 kshop-session-three/
SUMMARY:Career readiness workshop session three
DESCRIPTION:Please join the Center for Career &amp\; Professional Developme
 nt (CCPD) for a dynamic series of interactive workshops designed to elevat
 e your professional presence and career success!\n\nAll students are welco
 me to attend one or all of the following power-packed workshops:\n\n 	Tues
 day\, Feb. 18 at 12:45-1:30 p.m.\, Student Union\, Room 206: The Power of 
 You: Crafting Your Personal Brand for Success -- Craft a compelling person
 al brand that defines your unique value! Learn how to communicate it confi
 dently and professionally across your social media platforms.\n 	Thursday\
 , Feb. 20 at 12:45-1:30 p.m.\, Commerce &amp\; Finance Building\, Room 104
 : Acing the Interview: Interviewing Strategies for Students -- Master the 
 art of interviewing with proven strategies\, storytelling techniques and c
 onfidence-building tips to leave a lasting impression on employers.\n 	Tue
 sday\, Feb. 25 at 12:45-1:30 p.m.\, Student Union\, Room 206: Connections 
 that Count: Key Networking Strategies for Students -- Build authentic conn
 ections that open doors to opportunities. Discover how to engage in meanin
 gful conversations\, leverage Handshake and LinkedIn and expand your profe
 ssional circle.\n\nDon't miss this opportunity to sharpen your career read
 iness skills and take charge of your future!\n\nFor questions please conta
 ct careerlink@udmercy.edu or 313-993-1017.\nPre-register through Handshake
  account here
LOCATION:Student Union\, Room 206\, 4001 W. McNichols Road\, Detroit\, MI\,
  48221\, United States
X-APPLE-STRUCTURED-LOCATION;VALUE=URI;X-ADDRESS=4001 W. McNichols Road\, De
 troit\, MI\, 48221\, United States;X-APPLE-RADIUS=100;X-TITLE=Student Unio
 n\, Room 206:geo:0,0
END:VEVENT
BEGIN:VTIMEZONE
TZID:America/Detroit
X-LIC-LOCATION:America/Detroit
BEGIN:STANDARD
DTSTART:20241103T010000
TZOFFSETFROM:-0400
TZOFFSETTO:-0500
TZNAME:EST
END:STANDARD
END:VTIMEZONE
END:VCALENDAR