BEGIN:VCALENDAR
VERSION:2.0
PRODID:-//wp-events-plugin.com//6.4.6.4//EN
TZID:America/Detroit
X-WR-TIMEZONE:America/Detroit
BEGIN:VEVENT
UID:0-691@sites.udmercy.edu
DTSTART;TZID=America/Detroit:20250320T173000
DTEND;TZID=America/Detroit:20250320T173000
DTSTAMP:20250121T221504Z
URL:https://sites.udmercy.edu/campusconnection/events/cba-alumni-week-feat
 ures-keynote-event-with-eric-hespenheide-75/
SUMMARY:CBA alumni week features keynote event with Eric Hespenheide ’75
DESCRIPTION:Eric Hespenheide ’75\, a Marketing and Accounting graduate an
 d former CEO and chair of the Board of the Global Reporting Initiative\, r
 esponsible for creating measurement standards for a sustainable planet\, w
 ill be the keynote speaker during the College of Business Administration's
  alumni week. Hespenheide will provide a presentation on "Accounting for C
 limate Change."\n\nThe free event is set for Thursday\, March 20 at 5:30 p
 .m. in the Student Union Ballroom. This event is open to the public\, and 
 refreshments will be available at 5 p.m.\n\nInterested participants are as
 ked to reserve tickets at the link below by March 12.\nREGISTER HERE!
LOCATION:Student Union Ballroom\, McNichols Campus\, 4001 W. McNichols\, De
 troit\, MI\, 48221\, United States
X-APPLE-STRUCTURED-LOCATION;VALUE=URI;X-ADDRESS=4001 W. McNichols\, Detroit
 \, MI\, 48221\, United States;X-APPLE-RADIUS=100;X-TITLE=Student Union Bal
 lroom\, McNichols Campus:geo:0,0
END:VEVENT
BEGIN:VTIMEZONE
TZID:America/Detroit
X-LIC-LOCATION:America/Detroit
BEGIN:DAYLIGHT
DTSTART:20250309T030000
TZOFFSETFROM:-0500
TZOFFSETTO:-0400
TZNAME:EDT
END:DAYLIGHT
END:VTIMEZONE
END:VCALENDAR