BEGIN:VCALENDAR
VERSION:2.0
PRODID:-//wp-events-plugin.com//6.4.6.4//EN
TZID:America/Detroit
X-WR-TIMEZONE:America/Detroit
BEGIN:VEVENT
UID:0-1034@sites.udmercy.edu
DTSTART;TZID=America/Detroit:20260320T173000
DTEND;TZID=America/Detroit:20260320T173000
DTSTAMP:20260212T211958Z
URL:https://sites.udmercy.edu/campusconnection/events/cba-alumni-week-keyn
 ote-event-the-renaissance-of-detroit-featuring-alumnus-hakim-berry/
SUMMARY:CBA alumni week keynote event 'The Renaissance of Detroit' features
  alumnus Hakim Berry
DESCRIPTION:The College of Business Administration (CBA) Alumni Board will 
 host a keynote event during Alumni Week featuring Hakim Berry '07\, former
  chief operating officer for the City of Detroit. Berry will share his ins
 ights on The Renaissance of Detroit.\n\nThis free event will take place on
  Friday\, March 20\, at 5:30 p.m.\, in the Student Union Fountain Lounge.\
 n\nRefreshments will be available\, and attendees are encouraged to reserv
 e their spot in advance.\nRSVP here.
LOCATION:Fountain Lounge\, Student Union\, 4001 W. McNichols Road\, Detroit
 \, Michigan\, 48221\, United States
X-APPLE-STRUCTURED-LOCATION;VALUE=URI;X-ADDRESS=4001 W. McNichols Road\, De
 troit\, Michigan\, 48221\, United States;X-APPLE-RADIUS=100;X-TITLE=Founta
 in Lounge\, Student Union:geo:0,0
END:VEVENT
BEGIN:VTIMEZONE
TZID:America/Detroit
X-LIC-LOCATION:America/Detroit
BEGIN:DAYLIGHT
DTSTART:20260308T030000
TZOFFSETFROM:-0500
TZOFFSETTO:-0400
TZNAME:EDT
END:DAYLIGHT
END:VTIMEZONE
END:VCALENDAR