BEGIN:VCALENDAR
VERSION:2.0
PRODID:-//wp-events-plugin.com//6.4.6.4//EN
TZID:America/Detroit
X-WR-TIMEZONE:America/Detroit
BEGIN:VEVENT
UID:0-460@sites.udmercy.edu
DTSTART;TZID=America/Detroit:20240910T113000
DTEND;TZID=America/Detroit:20240910T130000
DTSTAMP:20240821T130508Z
URL:https://sites.udmercy.edu/campusconnection/events/celebrate-spirit-3/
SUMMARY:Celebrate Spirit!
DESCRIPTION:The official welcoming event to the new school year for the Uni
 versity community Celebrate Spirit! is set for Tuesday\, Sept. 10 inside o
 f the Student Fitness Center. The Mass of the Holy Spirit begins at 11:30 
 a.m.\n\nThe presider for Celebrate Spirit! is Vice President for Mission I
 ntegration Fr. Charles Oduke and the guest homilist is Marilyn Lacey\, RSM
 . The event is hosted by University Ministry\, Mission Integration\, and t
 he College for Humanities\, Arts and Social Sciences.\n\nAll are invited t
 o wear red\, orange or yellow as part of the event. Following Mass at 11:3
 0 a.m.\, a free lunch will be provided in the Fountain Lounge of the Stude
 nt Union at 1 p.m. Click here to volunteer at Celebrate Spirit!\n\nThis ye
 ar's theme is Radical Hospitality inspired by the charism and values of th
 e Sisters of Mercy of the Americas and Society of Jesus. Radical hospitali
 ty involves three steps — remembering\, welcoming and belonging — that
  get to the root of membership as the practice of welcoming yourself and o
 thers by remembering that we belong to a global community and the totality
  of being.\nFull information.
LOCATION:Student Fitness Center\, 4001 W. McNichols Road\, Detroit\, MI\, 4
 8221\, United States
X-APPLE-STRUCTURED-LOCATION;VALUE=URI;X-ADDRESS=4001 W. McNichols Road\, De
 troit\, MI\, 48221\, United States;X-APPLE-RADIUS=100;X-TITLE=Student Fitn
 ess Center:geo:0,0
END:VEVENT
BEGIN:VTIMEZONE
TZID:America/Detroit
X-LIC-LOCATION:America/Detroit
BEGIN:DAYLIGHT
DTSTART:20240310T030000
TZOFFSETFROM:-0500
TZOFFSETTO:-0400
TZNAME:EDT
END:DAYLIGHT
END:VTIMEZONE
END:VCALENDAR