BEGIN:VCALENDAR
VERSION:2.0
PRODID:-//wp-events-plugin.com//6.4.6.4//EN
TZID:America/Detroit
X-WR-TIMEZONE:America/Detroit
BEGIN:VEVENT
UID:0-27@sites.udmercy.edu
DTSTART;TZID=America/Detroit:20220915T113000
DTEND;TZID=America/Detroit:20220915T130000
DTSTAMP:20220825T153643Z
URL:https://sites.udmercy.edu/campusconnection/events/celebrate-spirit/
SUMMARY:Celebrate Spirit
DESCRIPTION:Celebrate Spirit with the Detroit Mercy community in the offici
 al welcoming event of the new school year on Thursday\, Sept. 15 at 11:30 
 a.m.
LOCATION:Student Fitness Center\, 4001 W. McNichols Road\, Detroit\, MI\, 4
 8221\, United States
X-APPLE-STRUCTURED-LOCATION;VALUE=URI;X-ADDRESS=4001 W. McNichols Road\, De
 troit\, MI\, 48221\, United States;X-APPLE-RADIUS=100;X-TITLE=Student Fitn
 ess Center:geo:0,0
END:VEVENT
BEGIN:VTIMEZONE
TZID:America/Detroit
X-LIC-LOCATION:America/Detroit
BEGIN:DAYLIGHT
DTSTART:20220313T030000
TZOFFSETFROM:-0500
TZOFFSETTO:-0400
TZNAME:EDT
END:DAYLIGHT
END:VTIMEZONE
END:VCALENDAR