BEGIN:VCALENDAR
VERSION:2.0
PRODID:-//wp-events-plugin.com//6.4.6.4//EN
TZID:America/Detroit
X-WR-TIMEZONE:America/Detroit
BEGIN:VEVENT
UID:0-597@sites.udmercy.edu
DTSTART;TZID=America/Detroit:20241107T124500
DTEND;TZID=America/Detroit:20241107T140000
DTSTAMP:20241104T162437Z
URL:https://sites.udmercy.edu/campusconnection/events/celebrating-first-ge
 neration-students/
SUMMARY:Celebrating first-generation students
DESCRIPTION:First-generation students are the first in their families to at
 tend college. We know our first-generation students are strong\, resilient
  individuals who are determined to succeed in their endeavors here at Detr
 oit Mercy. On the eve of National First-Generation College Student Day\, t
 he Office of Student Life invites all first-generation students to stop by
  the Lower Level of the Student Union on Nov. 7 from 12:45-2 p.m. as we ce
 lebrate the tough cookies that you are. Treat yourself to a cookie and sha
 re your story on why being first is important to you!
LOCATION:Student Union\, Lower Level\, 4001 W. McNichols Road\, Detroit\, M
 ichigan\, 48221\, United States
X-APPLE-STRUCTURED-LOCATION;VALUE=URI;X-ADDRESS=4001 W. McNichols Road\, De
 troit\, Michigan\, 48221\, United States;X-APPLE-RADIUS=100;X-TITLE=Studen
 t Union\, Lower Level:geo:0,0
END:VEVENT
BEGIN:VTIMEZONE
TZID:America/Detroit
X-LIC-LOCATION:America/Detroit
BEGIN:STANDARD
DTSTART:20241103T010000
TZOFFSETFROM:-0400
TZOFFSETTO:-0500
TZNAME:EST
END:STANDARD
END:VTIMEZONE
END:VCALENDAR