BEGIN:VCALENDAR
VERSION:2.0
PRODID:-//wp-events-plugin.com//6.4.6.4//EN
TZID:America/Detroit
X-WR-TIMEZONE:America/Detroit
BEGIN:VEVENT
UID:0-7@sites.udmercy.edu
DTSTART;TZID=America/Detroit:20220427T130000
DTEND;TZID=America/Detroit:20220427T150000
DTSTAMP:20220419T203420Z
URL:https://sites.udmercy.edu/campusconnection/events/celebration-of-presi
 dent-garibaldi/
SUMMARY:Celebration of President Garibaldi
DESCRIPTION:You are cordially invited to an ice cream social and celebratio
 n for President Antoine M. Garibaldi on Wednesday\, April 27 from 1-3 p
 .m. in the Fountain Lounge of the Student Union.
LOCATION:Fountain Lounge\, 4001 W. McNichols Road\, Detroit\, Michigan\, Un
 ited States
X-APPLE-STRUCTURED-LOCATION;VALUE=URI;X-ADDRESS=4001 W. McNichols Road\, De
 troit\, Michigan\, United States;X-APPLE-RADIUS=100;X-TITLE=Fountain Loung
 e:geo:0,0
END:VEVENT
BEGIN:VTIMEZONE
TZID:America/Detroit
X-LIC-LOCATION:America/Detroit
BEGIN:DAYLIGHT
DTSTART:20220313T030000
TZOFFSETFROM:-0500
TZOFFSETTO:-0400
TZNAME:EDT
END:DAYLIGHT
END:VTIMEZONE
END:VCALENDAR