BEGIN:VCALENDAR
VERSION:2.0
PRODID:-//wp-events-plugin.com//6.4.6.4//EN
TZID:America/Detroit
X-WR-TIMEZONE:America/Detroit
BEGIN:VEVENT
UID:0-472@sites.udmercy.edu
DTSTART;TZID=America/Detroit:20240925T160000
DTEND;TZID=America/Detroit:20240925T160000
DTSTAMP:20240830T192001Z
URL:https://sites.udmercy.edu/campusconnection/events/chaka-hughes-tree-de
 dication/
SUMMARY:Chaka Hughes tree dedication
DESCRIPTION:Please join the University community for the tree dedication to
  honor the memory of Chaka Hughes. The ceremony is set for Wednesday\, Sep
 t. 25 at 4 p.m. Chaka's tree is located outside of the Student Union main 
 entrance (near Kassab Mall).
LOCATION:Student Union\, 4001 W. McNichols Road\, Detroit\, Michigan\, 4822
 1\, United States
X-APPLE-STRUCTURED-LOCATION;VALUE=URI;X-ADDRESS=4001 W. McNichols Road\, De
 troit\, Michigan\, 48221\, United States;X-APPLE-RADIUS=100;X-TITLE=Studen
 t Union:geo:0,0
END:VEVENT
BEGIN:VTIMEZONE
TZID:America/Detroit
X-LIC-LOCATION:America/Detroit
BEGIN:DAYLIGHT
DTSTART:20240310T030000
TZOFFSETFROM:-0500
TZOFFSETTO:-0400
TZNAME:EDT
END:DAYLIGHT
END:VTIMEZONE
END:VCALENDAR