BEGIN:VCALENDAR
VERSION:2.0
PRODID:-//wp-events-plugin.com//6.4.6.4//EN
TZID:America/Detroit
X-WR-TIMEZONE:America/Detroit
BEGIN:VEVENT
UID:0-302@sites.udmercy.edu
DTSTART;TZID=America/Detroit:20231121T130000
DTEND;TZID=America/Detroit:20231121T130000
DTSTAMP:20231102T181858Z
URL:https://sites.udmercy.edu/campusconnection/events/chaldean-thanksgivin
 g-mass/
SUMMARY:Chaldean Thanksgiving Mass
DESCRIPTION:The Chaldean American Student Association is set to hold a Chal
 dean Thanksgiving Mass on Tuesday\, Nov. 21 at 1 p.m.\n\nThe Mass will be
  held inside of the St. Ignatius Chapel\, in the Commerce and Finance Buil
 ding on the McNichols Campus.\n\nAll are welcome!
LOCATION:St. Ignatius Chapel\, 4001 W. McNichols Road\, Detroit\, MI\, Unit
 ed States
X-APPLE-STRUCTURED-LOCATION;VALUE=URI;X-ADDRESS=4001 W. McNichols Road\, De
 troit\, MI\, United States;X-APPLE-RADIUS=100;X-TITLE=St. Ignatius Chapel:
 geo:0,0
END:VEVENT
BEGIN:VTIMEZONE
TZID:America/Detroit
X-LIC-LOCATION:America/Detroit
BEGIN:STANDARD
DTSTART:20231105T010000
TZOFFSETFROM:-0400
TZOFFSETTO:-0500
TZNAME:EST
END:STANDARD
END:VTIMEZONE
END:VCALENDAR