BEGIN:VCALENDAR
VERSION:2.0
PRODID:-//wp-events-plugin.com//6.4.6.4//EN
TZID:America/Detroit
X-WR-TIMEZONE:America/Detroit
BEGIN:VEVENT
UID:0-756@sites.udmercy.edu
DTSTART;TZID=America/Detroit:20250228T193000
DTEND;TZID=America/Detroit:20250228T193000
DTSTAMP:20250225T173213Z
URL:https://sites.udmercy.edu/campusconnection/events/chass-discover-detro
 it-series-detroit-opera-rinaldo/
SUMMARY:CHASS Discover Detroit Series: Detroit Opera: 'Rinaldo'
DESCRIPTION:Welcome to the College of Humanities\, Arts &amp\; Social Scien
 ces (CHASS) Discover Detroit Series! The form\, which can be accessed at t
 he link below\, is your one-stop destination to register for all Winter 20
 25 events. Each event offers a unique opportunity to explore Detroit’s r
 ich culture\, arts and community while connecting with fellow Detroit Merc
 y students\, faculty and staff.\n\nHow It Works:\n\n 	The form is organize
 d into sections with each event listed separately.\n 	Simply scroll to the
  event(s) you’re interested in and complete the corresponding sign-up se
 ction.\n 	You may sign up for as many events as you’d like!\n\nCompletin
 g this form does not mean you’re committing to the event right now. By
  signing up\, you’ll receive reminders and updates throughout the semest
 er\, helping you stay informed and decide closer to the event date. We enc
 ourage you to sign up now so we can keep you in the loop and ensure you do
 n’t miss out on any opportunities!\n\nLet’s make Winter 2025 a season 
 to remember—come join the adventure!\n\nNEXT UP -- Rinaldo\, on Feb. 28 
 at 7:30 p.m. at the Detroit Opera House\, 1526 Broadway Street\, Detroit: 
 Step into a world of knights\, sorcerers\, monsters and magic as Handel’
 s Rinaldo is reimagined through the lens of a child’s fantasy. Set in a 
 contemporary pediatric ward\, the young patients embark on a heroic journe
 y\, where imagination becomes a powerful remedy for life’s unimaginable 
 challenges. Don’t miss this stunning production of Handel’s Baroque ma
 sterpiece\, brought to life by the Detroit Opera Company! Tickets are just
  $25 for students and $30-145 for faculty and staff for main floor general
  admission.\n\nRemaining Winter 2025 CHASS Discover Detroit Series Events:
 \n\n 	2/28/25: Detroit Opera: Rinaldo\, 7:30 p.m. at Detroit Opera House.
 \n 	3/12/25: Rolling Skating Party\, 6 p.m. (Location TBD).\n 	3/22/25: D
 SO: Beethoven &amp\; Brahms\, 8 p.m. at Detroit Symphony Orchestra.\n 	3/
 29/25: Motown Museum Tour\, Time TBD at Motown Museum.\n 	4/4/25: Ron Cart
 er Quartet\, 8 p.m. at Detroit Symphony Orchestra\n 	4/7/25: Detroit Pist
 ons Game\, 7 p.m. at Little Caesars Arena\n\nRegister here for Rinaldo an
 d future Discover Detroit Events!
LOCATION:Detroit Opera House\, 1526 Broadway Street\, Detroit\, Michigan\, 
 48226\, United States
X-APPLE-STRUCTURED-LOCATION;VALUE=URI;X-ADDRESS=1526 Broadway Street\, Detr
 oit\, Michigan\, 48226\, United States;X-APPLE-RADIUS=100;X-TITLE=Detroit 
 Opera House:geo:0,0
END:VEVENT
BEGIN:VTIMEZONE
TZID:America/Detroit
X-LIC-LOCATION:America/Detroit
BEGIN:STANDARD
DTSTART:20241103T010000
TZOFFSETFROM:-0400
TZOFFSETTO:-0500
TZNAME:EST
END:STANDARD
END:VTIMEZONE
END:VCALENDAR