BEGIN:VCALENDAR
VERSION:2.0
PRODID:-//wp-events-plugin.com//6.4.6.4//EN
TZID:America/Detroit
X-WR-TIMEZONE:America/Detroit
BEGIN:VEVENT
UID:0-760@sites.udmercy.edu
DTSTART;TZID=America/Detroit:20250404T200000
DTEND;TZID=America/Detroit:20250404T200000
DTSTAMP:20250225T174306Z
URL:https://sites.udmercy.edu/campusconnection/events/chass-discover-detro
 it-series-ron-carter-quartet/
SUMMARY:CHASS Discover Detroit Series: Ron Carter Quartet
DESCRIPTION:Welcome to the College of Humanities\, Arts &amp\; Social Scien
 ces (CHASS) Discover Detroit Series! The form\, which can be accessed at t
 he link below\, is your one-stop destination to register for all Winter 20
 25 events. Each event offers a unique opportunity to explore Detroit’s r
 ich culture\, arts and community while connecting with fellow Detroit Merc
 y students\, faculty and staff.\n\nHow It Works:\n\n 	The form is organize
 d into sections with each event listed separately.\n 	Simply scroll to the
  event(s) you’re interested in and complete the corresponding sign-up se
 ction.\n 	You may sign up for as many events as you’d like!\n\nCompletin
 g this form does not mean you’re committing to the event right now. By
  signing up\, you’ll receive reminders and updates throughout the semest
 er\, helping you stay informed and decide closer to the event date. We enc
 ourage you to sign up now so we can keep you in the loop and ensure you do
 n’t miss out on any opportunities!\n\nLet’s make Winter 2025 a season 
 to remember—come join the adventure!\n\nRemaining Winter 2025 CHASS Disc
 over Detroit Series Events:\n\n 	2/28/25: Detroit Opera: Rinaldo\, 7:30 p
 .m. at Detroit Opera House.\n 	3/12/25: Rolling Skating Party\, 6 p.m. (L
 ocation TBD).\n 	3/22/25: DSO: Beethoven &amp\; Brahms\, 8 p.m. at Detroi
 t Symphony Orchestra.\n 	3/29/25: Motown Museum Tour\, Time TBD at Motown 
 Museum.\n 	4/4/25: Ron Carter Quartet\, 8 p.m. at Detroit Symphony Orches
 tra\n 	4/7/25: Detroit Pistons Game\, 7 p.m. at Little Caesars Arena\n\nR
 egister here for Discover Detroit Events!
LOCATION:Max M. &amp\; Marjorie S. Fisher Music Center\, 3711 Woodward Ave\
 , Detroit\, MI\, 48201\, United States
X-APPLE-STRUCTURED-LOCATION;VALUE=URI;X-ADDRESS=3711 Woodward Ave\, Detroit
 \, MI\, 48201\, United States;X-APPLE-RADIUS=100;X-TITLE=Max M. & Marjorie
  S. Fisher Music Center:geo:0,0
END:VEVENT
BEGIN:VTIMEZONE
TZID:America/Detroit
X-LIC-LOCATION:America/Detroit
BEGIN:DAYLIGHT
DTSTART:20250309T030000
TZOFFSETFROM:-0500
TZOFFSETTO:-0400
TZNAME:EDT
END:DAYLIGHT
END:VTIMEZONE
END:VCALENDAR