BEGIN:VCALENDAR
VERSION:2.0
PRODID:-//wp-events-plugin.com//6.4.6.4//EN
TZID:America/Detroit
X-WR-TIMEZONE:America/Detroit
BEGIN:VEVENT
UID:0-598@sites.udmercy.edu
DTSTART;TZID=America/Detroit:20241114T010000
DTEND;TZID=America/Detroit:20241114T010000
DTSTAMP:20241105T135431Z
URL:https://sites.udmercy.edu/campusconnection/events/circle-of-support-of
 fered/
SUMMARY:Circle of support offered
DESCRIPTION:Join University Ministry on Nov. 14 at 1 p.m. in the Mercy Gath
 ering Place in Shiple Hall to share and reflect on the political turmoil i
 n our world. Whether to give or receive\, come for love\, respect and list
 ening. This is an opportunity for sharing\, refection and grounding oursel
 ves in community inspired by restorative justice practices.
LOCATION:Shiple Hall\, Mercy Place\, 4001 W McNichols Rd\,\, Detroit\, MI\,
  48221\, United States
X-APPLE-STRUCTURED-LOCATION;VALUE=URI;X-ADDRESS=4001 W McNichols Rd\,\, Det
 roit\, MI\, 48221\, United States;X-APPLE-RADIUS=100;X-TITLE=Shiple Hall\,
  Mercy Place:geo:0,0
END:VEVENT
BEGIN:VTIMEZONE
TZID:America/Detroit
X-LIC-LOCATION:America/Detroit
BEGIN:STANDARD
DTSTART:20241103T010000
TZOFFSETFROM:-0400
TZOFFSETTO:-0500
TZNAME:EST
END:STANDARD
END:VTIMEZONE
END:VCALENDAR