BEGIN:VCALENDAR
VERSION:2.0
PRODID:-//wp-events-plugin.com//6.4.6.4//EN
TZID:America/Detroit
X-WR-TIMEZONE:America/Detroit
BEGIN:VEVENT
UID:0-762@sites.udmercy.edu
DTSTART;TZID=America/Detroit:20250310T160000
DTEND;TZID=America/Detroit:20250310T160000
DTSTAMP:20250226T190711Z
URL:https://sites.udmercy.edu/campusconnection/events/clasa-zoom-webinar-o
 n-lex-innocentium/
SUMMARY:CLASA Zoom webinar on Lex Innocentium
DESCRIPTION:Join Carney Latin American Solidarity Archive (CLASA) for a fre
 e Zoom webinar on Lex Innocentium -- the Irish law defending innocents dur
 ing war -- on Monday\, March 10 at 4 p.m. All are welcome to attend. Pleas
 e register below to receive the Zoom link for the event.\n\nIn this webina
 r\, Eamon Rafter\, an activist and educator for peace and justice\, will d
 iscuss the movement of Lex Innocentium 21st Century. He'll explain how thi
 s contemporary group was formed to revive a law that was promulgated by a 
 gathering of bishops in Ireland during the Synod of Birr in 697 A.D. to pr
 otect innocents (clergy\, women and youth) during times of war\, as well a
 s support the Irish position of neutrality at the beginning of the 20th ce
 ntury. Rafter will explain how this movement was built on Ireland's values
  and moral standards of the past to address current atrocities\, using art
  and creativity to spread the message.\n\nRafter works with World Beyond W
 ar\, Swords to Ploughshares and Lex Innocentium 21st Century\, focusing on
  arms trade\, militarism\, war abolition and nonviolent alternatives. He h
 as also worked extensively on reconciliation projects in Ireland with scho
 ols\, universities and communities affected by conflict. Rafter is an acti
 ve participant and presenter in the International Institute of Peace Educa
 tion (IIPE)\, most recently in Mexico and Nepal.\n\nThis event is sponsore
 d by CLASA and co-sponsored by the Detroit Mercy Political Science Departm
 ent.\n\nFor any questions or more information\, please email CLASA Directo
 r Gail Presbey at presbegm@udmercy.edu.\n\nRegister Here!
END:VEVENT
BEGIN:VTIMEZONE
TZID:America/Detroit
X-LIC-LOCATION:America/Detroit
BEGIN:DAYLIGHT
DTSTART:20250309T030000
TZOFFSETFROM:-0500
TZOFFSETTO:-0400
TZNAME:EDT
END:DAYLIGHT
END:VTIMEZONE
END:VCALENDAR