BEGIN:VCALENDAR
VERSION:2.0
PRODID:-//wp-events-plugin.com//6.4.6.4//EN
TZID:America/Detroit
X-WR-TIMEZONE:America/Detroit
BEGIN:VEVENT
UID:0-122@sites.udmercy.edu
DTSTART;TZID=America/Detroit;VALUE=DATE:20221107
DTEND;TZID=America/Detroit;VALUE=DATE:20221108
DTSTAMP:20221102T154138Z
URL:https://sites.udmercy.edu/campusconnection/events/class-registration-b
 egins-for-2023-winter-summer-semesters/
SUMMARY:Class registration begins for 2023 winter\, summer semesters
DESCRIPTION:Titans\, class registration for the 2023 winter and summer seme
 sters begins on Monday\, Nov. 7 at 12 a.m. (Sunday night at midnight).\n
 \nThe priority registration schedule for the week of Nov. 7-11 is listed b
 elow. Each day during priority registration the next priority group starts
  at 12 a.m. (midnight) and once open for that group\, you have access 24-7
  from that day forward\, until late registration closes for the 2023 winte
 r semester on Jan. 15\, 2023.\n\nSummer 2023 registration begins on Monday
 \, Nov. 7 and continues through May 14\, 2023.\n\nRegistration tips/sugges
 tions:\n\n 	Once you have an open registration session\, DO NOT try to ope
 n another session as that can cause an assess issue with your account.\n 	
 Please check for any holds or Action Items you may have before your regist
 ration day/time\, so you have a chance to clear them.\n 	Hold information 
 is available in your Self-Service account.\n 	If you have a hold\, please 
 contact the office that placed the hold on your account for assistance bef
 ore registration begins.\n\n2023 Winter Semester — Priority Registration
  Schedule\n\n 	Monday\, Nov. 7 — Graduate Students\, Undergraduate Post 
 Degree and Seniors with 90 or more earned hours (this does not include in-
 progress courses)\n 	Tuesday\, Nov. 8 — Juniors with 60 to 89.99 earned 
 hours (this does not include in-progress courses)\n 	Wednesday\, Nov. 9 
 — Sophomores with 30 to 59.99 earned hours (this does not include in-pro
 gress courses)\n 	Thursday\, Nov. 10 — Freshmen with 0 to 29.99 earned h
 ours (this does not include in-progress courses)\n 	Friday\, Nov. 11 — U
 nclassified students and guest/consortium students\n 	Nov. 12 through Jan.
  15 — Open Registration\n\nOffice of the Registrar.
END:VEVENT
BEGIN:VTIMEZONE
TZID:America/Detroit
X-LIC-LOCATION:America/Detroit
BEGIN:STANDARD
DTSTART:20221106T010000
TZOFFSETFROM:-0400
TZOFFSETTO:-0500
TZNAME:EST
END:STANDARD
END:VTIMEZONE
END:VCALENDAR