BEGIN:VCALENDAR
VERSION:2.0
PRODID:-//wp-events-plugin.com//6.4.6.4//EN
TZID:America/Detroit
X-WR-TIMEZONE:America/Detroit
BEGIN:VEVENT
UID:0-673@sites.udmercy.edu
DTSTART;TZID=America/Detroit:20250127T180000
DTEND;TZID=America/Detroit:20250127T190000
DTSTAMP:20250113T213545Z
URL:https://sites.udmercy.edu/campusconnection/events/clinical-psychology-
 m-a-program-open-house/
SUMMARY:Clinical Psychology M.A. program virtual open house
DESCRIPTION:Are you passionate about helping others\, understanding the hum
 an mind and making a meaningful impact? Put that passion into practice and
  join us for a virtual open house on Monday\, Jan. 27 from 6-7 p.m. to lea
 rn about Detroit Mercy’s Clinical Psychology Master of Arts program!\n\n
 A Zoom link will be provided upon registration for the event.\n\nIn this i
 nteractive session you will meet Program Director Lee Eshelman and get you
 r questions answered directly. You will also learn about the program’s f
 ocus on training mental healthcare providers in psychotherapy and psycholo
 gical assessment.\n\nIf you’re considering a career in mental health\, t
 his is a great opportunity to learn more about how our program can help yo
 u achieve your goals as well as discover career opportunities including ro
 les in hospitals\, mental health clinics and outpatient care centers\n\nLe
 arn more about the Clinical Psychology M.A. program HERE.\n\nFor questions
  or more information\, please contact Eshelman at eshelmlr@udmercy.edu.\nR
 EGISTER HERE!
END:VEVENT
BEGIN:VTIMEZONE
TZID:America/Detroit
X-LIC-LOCATION:America/Detroit
BEGIN:STANDARD
DTSTART:20241103T010000
TZOFFSETFROM:-0400
TZOFFSETTO:-0500
TZNAME:EST
END:STANDARD
END:VTIMEZONE
END:VCALENDAR