BEGIN:VCALENDAR
VERSION:2.0
PRODID:-//wp-events-plugin.com//6.4.6.4//EN
TZID:America/Detroit
X-WR-TIMEZONE:America/Detroit
BEGIN:VEVENT
UID:0-468@sites.udmercy.edu
DTSTART;TZID=America/Detroit:20241015T173000
DTEND;TZID=America/Detroit:20241015T190000
DTSTAMP:20241014T190156Z
URL:https://sites.udmercy.edu/campusconnection/events/come-see-the-award-w
 inning-author-discuss-her-life-and-breakthrough-novel-these-ghosts-are-fam
 ily/
SUMMARY:Author Maisy Card at Detroit Mercy
DESCRIPTION:On October 15\, join us on McNichols Campus and hear from autho
 r Maisy Card.\n\nMaisy Card is the author of the novel These Ghosts Are F
 amily\, which won an American Book Award\, the 2021 OCM Bocas Prize in fic
 tion and was a finalist for the PEN/Hemingway Award for Debut Novel\, The 
 Center for Fiction First Novel Prize\, and the LA Times Art Seidenbaum Awa
 rd for First Fiction. Join us for a reading from her work and a discussion
  led by Jazmin Ortavia Cooper.\n\n 	Please register your attendance\n 	Fin
 d more on her book.\n
LOCATION:McNichols Campus Library - Bargman Room\, 4001 W McNichols Rd.\, D
 etroit\, MI\, 48221\, United States
X-APPLE-STRUCTURED-LOCATION;VALUE=URI;X-ADDRESS=4001 W McNichols Rd.\, Detr
 oit\, MI\, 48221\, United States;X-APPLE-RADIUS=100;X-TITLE=McNichols Camp
 us Library - Bargman Room:geo:0,0
END:VEVENT
BEGIN:VTIMEZONE
TZID:America/Detroit
X-LIC-LOCATION:America/Detroit
BEGIN:DAYLIGHT
DTSTART:20240310T030000
TZOFFSETFROM:-0500
TZOFFSETTO:-0400
TZNAME:EDT
END:DAYLIGHT
END:VTIMEZONE
END:VCALENDAR