BEGIN:VCALENDAR
VERSION:2.0
PRODID:-//wp-events-plugin.com//6.4.6.4//EN
TZID:America/Detroit
X-WR-TIMEZONE:America/Detroit
BEGIN:VEVENT
UID:0-321@sites.udmercy.edu
DTSTART;TZID=America/Detroit:20231127T150000
DTEND;TZID=America/Detroit:20231127T163000
DTSTAMP:20231121T042256Z
URL:https://sites.udmercy.edu/campusconnection/events/craft-earn-volunteer
 -hours-with-tenn/
SUMMARY:Craft\, earn volunteer hours with TENN
DESCRIPTION:Earn service hours and help Detroit Mercy's Titan Equity Nouris
 h Network to make gifts for our neighbors Monday\, Nov. 27 from 3-4:30 p.m
 .\n\nThe craft-making will take place in the Commerce &amp\; Finance Build
 ing\, Room 233.\n\nWith any questions\, please email TENN at tenn@udmercy.
 edu.\nSign-up to craft!
LOCATION:Commerce and Finance Building\, Room 233\, 4001 W. McNichols Road\
 , Detroit\, Michigan\, 48221\, United States
X-APPLE-STRUCTURED-LOCATION;VALUE=URI;X-ADDRESS=4001 W. McNichols Road\, De
 troit\, Michigan\, 48221\, United States;X-APPLE-RADIUS=100;X-TITLE=Commer
 ce and Finance Building\, Room 233:geo:0,0
END:VEVENT
BEGIN:VTIMEZONE
TZID:America/Detroit
X-LIC-LOCATION:America/Detroit
BEGIN:STANDARD
DTSTART:20231105T010000
TZOFFSETFROM:-0400
TZOFFSETTO:-0500
TZNAME:EST
END:STANDARD
END:VTIMEZONE
END:VCALENDAR