BEGIN:VCALENDAR
VERSION:2.0
PRODID:-//wp-events-plugin.com//6.4.6.4//EN
TZID:America/Detroit
X-WR-TIMEZONE:America/Detroit
BEGIN:VEVENT
UID:0-683@sites.udmercy.edu
DTSTART;TZID=America/Detroit:20250324T173000
DTEND;TZID=America/Detroit:20250324T173000
DTSTAMP:20250317T182156Z
URL:https://sites.udmercy.edu/campusconnection/events/creative-writing-col
 lective-10/
SUMMARY:Final Creative Writing Collective
DESCRIPTION:Detroit Mercy students\, staff\, faculty\, alumni and friends a
 re invited to join this semester's final gathering of UDM's Creative Writi
 ng Collective (CWC) on Monday\, March 24 at 5:30 p.m. inside the Briggs Bu
 ilding\, Room 301.\n\nSenior Adjunct Instructor and short story writer Mol
 ly Barlow will lead a conversation on flash fiction.\n\nNo writing experie
 nce is necessary to join the CWC! You are welcome if you have an interest 
 in exploring or developing your creative inclinations.\n\nPlease contact e
 nglish@udmercy.edu with questions or to join the CWC mailing list.\n\nKeep
  up with the Detroit Mercy English Department on Instagram and Facebook @d
 etroitmercyenglish.
LOCATION:Briggs Building\, Room 301\, 4001 W. McNichols Road\, Detroit\, MI
 \, 48221\, United States
X-APPLE-STRUCTURED-LOCATION;VALUE=URI;X-ADDRESS=4001 W. McNichols Road\, De
 troit\, MI\, 48221\, United States;X-APPLE-RADIUS=100;X-TITLE=Briggs Build
 ing\, Room 301:geo:0,0
END:VEVENT
BEGIN:VTIMEZONE
TZID:America/Detroit
X-LIC-LOCATION:America/Detroit
BEGIN:DAYLIGHT
DTSTART:20250309T030000
TZOFFSETFROM:-0500
TZOFFSETTO:-0400
TZNAME:EDT
END:DAYLIGHT
END:VTIMEZONE
END:VCALENDAR