BEGIN:VCALENDAR
VERSION:2.0
PRODID:-//wp-events-plugin.com//6.4.6.4//EN
TZID:America/Detroit
X-WR-TIMEZONE:America/Detroit
BEGIN:VEVENT
UID:0-349@sites.udmercy.edu
DTSTART;TZID=America/Detroit:20240206T171500
DTEND;TZID=America/Detroit:20240206T183000
DTSTAMP:20240129T215333Z
URL:https://sites.udmercy.edu/campusconnection/events/creative-writing-col
 lective-6/
SUMMARY:Creative Writing Collective
DESCRIPTION:All are welcome to join Detroit Mercy's Creative Writing Collec
 tive on Tuesday\, Feb. 6 at 5:15 p.m. with Professor of English Nick Rombe
 s set to lead. The gathering will be held in the Briggs Building\, Room 20
 5.\n\nNo writing experience is necessary\, just an interest in exploring a
 nd developing your creative inclinations. UDM students\, staff\, faculty\,
  alumni\, and friends are all invited!\n\nFor more information or to join 
 the CWC mailing list\, email english@udmercy.edu.\n\nSAVE THE DATE: The ne
 xt Creative Writing Collective is set for Tuesday\, March 11.
LOCATION:Briggs Building\, Room 205\, 4001 W. McNichols Road\, Detroit\, Mi
 chigan\, 48221\, United States
X-APPLE-STRUCTURED-LOCATION;VALUE=URI;X-ADDRESS=4001 W. McNichols Road\, De
 troit\, Michigan\, 48221\, United States;X-APPLE-RADIUS=100;X-TITLE=Briggs
  Building\, Room 205:geo:0,0
END:VEVENT
BEGIN:VTIMEZONE
TZID:America/Detroit
X-LIC-LOCATION:America/Detroit
BEGIN:STANDARD
DTSTART:20231105T010000
TZOFFSETFROM:-0400
TZOFFSETTO:-0500
TZNAME:EST
END:STANDARD
END:VTIMEZONE
END:VCALENDAR