BEGIN:VCALENDAR
VERSION:2.0
PRODID:-//wp-events-plugin.com//6.4.6.4//EN
TZID:America/Detroit
X-WR-TIMEZONE:America/Detroit
BEGIN:VEVENT
UID:0-464@sites.udmercy.edu
DTSTART;TZID=America/Detroit:20240917T173000
DTEND;TZID=America/Detroit:20240917T184500
DTSTAMP:20240827T143851Z
URL:https://sites.udmercy.edu/campusconnection/events/creative-writing-col
 lective-7/
SUMMARY:Creative Writing Collective
DESCRIPTION:Detroit Mercy students\, staff\, faculty\, alumni\, and friends
  are invited to join UDM's Creative Writing Collective! The first gatherin
 g is set for Tuesday\, Sept. 17 from 5:30-6:45 p.m. inside of the Briggs B
 uilding\, Room 201.\n\nNo writing experience is necessary to join the Crea
 tive Writing Collective! You are welcome if you have an interest in explor
 ing or developing your creative inclinations.\n\nThe first meeting will be
  led by Senior Adjunct Instructor Michael Lauchlan and is titled\, "Layers
 : the Mind at Work and Play."\n\nFuture Creative Writing Collective Dates 
 are:\n\n 	Tuesday\, Oct. 22 — "Musicality and the Ballad form in Writing
 \," led by Nicholas Rombes\n 	Tuesday\, Nov. 19 — "Writing About/With An
 imals\," led by Stacy Gnall\n\nEmail english@udmercy.edu with any question
 s or to join the CWC mailing list.
LOCATION:Briggs Buildings\, Room 201\, 4001 W. McNichols Road\, Detroit\, M
 ichigan\, 48221\, United States
X-APPLE-STRUCTURED-LOCATION;VALUE=URI;X-ADDRESS=4001 W. McNichols Road\, De
 troit\, Michigan\, 48221\, United States;X-APPLE-RADIUS=100;X-TITLE=Briggs
  Buildings\, Room 201:geo:0,0
END:VEVENT
BEGIN:VTIMEZONE
TZID:America/Detroit
X-LIC-LOCATION:America/Detroit
BEGIN:DAYLIGHT
DTSTART:20240310T030000
TZOFFSETFROM:-0500
TZOFFSETTO:-0400
TZNAME:EDT
END:DAYLIGHT
END:VTIMEZONE
END:VCALENDAR