BEGIN:VCALENDAR
VERSION:2.0
PRODID:-//wp-events-plugin.com//6.4.6.4//EN
TZID:America/Detroit
X-WR-TIMEZONE:America/Detroit
BEGIN:VEVENT
UID:0-134@sites.udmercy.edu
DTSTART;TZID=America/Detroit:20221205T173000
DTEND;TZID=America/Detroit:20221205T183000
DTSTAMP:20221201T221716Z
URL:https://sites.udmercy.edu/campusconnection/events/cybersecurity-club-m
 eeting-2/
SUMMARY:Cybersecurity Club meeting
DESCRIPTION:Join Detroit Mercy's Cybersecurity Club on Monday\, Dec. 5 for 
 the final meeting of the 2022 year\, as the club will learn and talk about
  the inner-workings of computers. The meetings take place in the Briggs Bu
 ilding\, Room 217 from 5:30-6:30 p.m.\n\nThe club will be taking apart man
 y Lenovo ThinkCentre PC's during the meeting.\n\nFree pizza will be provid
 ed for all who attend!
LOCATION:Briggs Building\, Room 217\, 4001 W. McNichols Road\, Detroit\, Mi
 chigan\, 48221\, United States
X-APPLE-STRUCTURED-LOCATION;VALUE=URI;X-ADDRESS=4001 W. McNichols Road\, De
 troit\, Michigan\, 48221\, United States;X-APPLE-RADIUS=100;X-TITLE=Briggs
  Building\, Room 217:geo:0,0
END:VEVENT
BEGIN:VTIMEZONE
TZID:America/Detroit
X-LIC-LOCATION:America/Detroit
BEGIN:STANDARD
DTSTART:20221106T010000
TZOFFSETFROM:-0400
TZOFFSETTO:-0500
TZNAME:EST
END:STANDARD
END:VTIMEZONE
END:VCALENDAR