BEGIN:VCALENDAR
VERSION:2.0
PRODID:-//wp-events-plugin.com//6.4.6.4//EN
TZID:America/Detroit
X-WR-TIMEZONE:America/Detroit
BEGIN:VEVENT
UID:0-127@sites.udmercy.edu
DTSTART;TZID=America/Detroit:20221114T173000
DTEND;TZID=America/Detroit:20221114T183000
DTSTAMP:20221111T171301Z
URL:https://sites.udmercy.edu/campusconnection/events/cybersecurity-club-m
 eeting/
SUMMARY:Cybersecurity Club meeting
DESCRIPTION:Detroit Mercy's Cybersecurity Club is holding monthly meetings 
 throughout the school year! Learn more about what the club has to offer an
 d partake in free pizza during these meetings.\n\nThe next meeting will be
  held Monday\, Nov. 14 from 5:30-6:30 p.m.\, in the Briggs Building\, Room
  217.\n\nDuring the upcoming meeting\, the club will demonstrate a hack us
 ing a physical hacking tool called a Bash Bunny. Join the club for free pi
 zza\, club-wide Cybersecurity discussions\, and the chance to influence wh
 at we cover on the next few meetings!\n\nYou'll also have the opportunity 
 to speak with representatives of the club. All are welcome!\n\nSave the da
 te for future meetings:\n\n 	Monday\, Dec. 5\n 	Wednesday\, Jan. 18\n 	Mon
 day\, Feb. 13\n 	Wednesday\, March 15\n 	Monday\, April 17\n\nLearn more a
 bout the Cybersecurity Club.
LOCATION:Briggs Building\, Room 217\, 4001 W. McNichols Road\, Detroit\, Mi
 chigan\, 48221\, United States
X-APPLE-STRUCTURED-LOCATION;VALUE=URI;X-ADDRESS=4001 W. McNichols Road\, De
 troit\, Michigan\, 48221\, United States;X-APPLE-RADIUS=100;X-TITLE=Briggs
  Building\, Room 217:geo:0,0
END:VEVENT
BEGIN:VTIMEZONE
TZID:America/Detroit
X-LIC-LOCATION:America/Detroit
BEGIN:STANDARD
DTSTART:20221106T010000
TZOFFSETFROM:-0400
TZOFFSETTO:-0500
TZNAME:EST
END:STANDARD
END:VTIMEZONE
END:VCALENDAR