BEGIN:VCALENDAR
VERSION:2.0
PRODID:-//wp-events-plugin.com//6.4.6.4//EN
TZID:America/Detroit
X-WR-TIMEZONE:America/Detroit
BEGIN:VEVENT
UID:0-30@sites.udmercy.edu
DTSTART;TZID=America/Detroit;VALUE=DATE:20220927
DTEND;TZID=America/Detroit;VALUE=DATE:20220928
DTSTAMP:20220909T155832Z
URL:https://sites.udmercy.edu/campusconnection/events/day-of-giving/
SUMMARY:Day of Giving
DESCRIPTION:On Tuesday\, Sept. 27\, Detroit Mercy’s Alumni Relations and
  Annual Giving Offices will host Day of Giving\, an annual event that cel
 ebrates and educates students about how alumni contributions of time\, tal
 ent and treasure help current students and enrich the University.
LOCATION:University of Detroit Mercy\, 4001 W. McNichols Road\, Detroit\, M
 ichigan\, 48221\, United States
X-APPLE-STRUCTURED-LOCATION;VALUE=URI;X-ADDRESS=4001 W. McNichols Road\, De
 troit\, Michigan\, 48221\, United States;X-APPLE-RADIUS=100;X-TITLE=Univer
 sity of Detroit Mercy:geo:0,0
END:VEVENT
BEGIN:VTIMEZONE
TZID:America/Detroit
X-LIC-LOCATION:America/Detroit
BEGIN:DAYLIGHT
DTSTART:20220313T030000
TZOFFSETFROM:-0500
TZOFFSETTO:-0400
TZNAME:EDT
END:DAYLIGHT
END:VTIMEZONE
END:VCALENDAR