BEGIN:VCALENDAR
VERSION:2.0
PRODID:-//wp-events-plugin.com//6.4.6.4//EN
TZID:America/Detroit
X-WR-TIMEZONE:America/Detroit
BEGIN:VEVENT
UID:0-4@sites.udmercy.edu
DTSTART;TZID=America/Detroit:20220421T160000
DTEND;TZID=America/Detroit:20220421T193000
DTSTAMP:20220413T145046Z
URL:https://sites.udmercy.edu/campusconnection/events/de-stress-at-spring-
 send-off-on-april-21/
SUMMARY:De-stress at Spring Send-off on April 21
DESCRIPTION:\nApril 21"\n\n\n\nStudents\, it’s time to take a break from 
 studying\, tests and homework for the event of the year!\n\nThis year\, tw
 o popular past events\, De-Stress Fest and Student Alumni Leadership Counc
 il’s Spring Send-off\, have come together to bring you one event that yo
 u won’t want to miss: De-stress at Spring Send-off!\n\nThe free event is
  set for Thursday\, April 21 from 4-7:30 p.m. at the Student Fitness Cen
 ter.\n\nActivities will be indoors and outdoors\, depending on weather\, a
 nd allows students the opportunity to celebrate the end of the 2021-22 sch
 ool year\, to destress before finals and bid farewell to soon-to-be gradua
 tes and friends for the summer.\n\nEvent features:\n\n 	Free food and drin
 ks (Please note: The Titan Dining Room will be closed for dinner service d
 uring this event)\n 	Donut Bar by Duck Donuts — Dozens of combinations a
 nd toppings\n 	Mocktail Bar — Pina Colada’s\, Margarita’s and Strawb
 erry Daiquiris\, oh my!\n 	De-stress with massages and a therapy dog\n 	Fr
 ee Class of 2022 t-shirts — Grab a sharpie and pass it around for signat
 ures (only 150 t-shirts available)\n 	Detroit Mercy Build-a-Bear ($5) — 
 Take your pick and stuff your own panda\, tiger\, dog or bear and dress it
  in a Detroit Mercy t-shirt\n 	Fun and games — Mobile bowling alley\, in
 flatables\, slime making\, photo booth and more!\n 	Door prizes — All at
 tendees will receive raffle tickets to put towards numerous prize packs\n\
 nThis event is being hosted by the SALC\, University Recreation\, Student 
 Life Office\, Student Success Center\, King Chavez Parks and Student Gover
 nment Association.\n\nFor more information or with questions\, please cont
 act Deanna Blevins at humphrdc@udmercy.edu or Angelina Jaroszewski at v
 estaj@udmercy.edu.\n\n\n\n
LOCATION:Student Fitness Center\, 4001 W. McNichols Road\, Detroit\, MI\, 4
 8221\, United States
X-APPLE-STRUCTURED-LOCATION;VALUE=URI;X-ADDRESS=4001 W. McNichols Road\, De
 troit\, MI\, 48221\, United States;X-APPLE-RADIUS=100;X-TITLE=Student Fitn
 ess Center:geo:0,0
END:VEVENT
BEGIN:VTIMEZONE
TZID:America/Detroit
X-LIC-LOCATION:America/Detroit
BEGIN:DAYLIGHT
DTSTART:20220313T030000
TZOFFSETFROM:-0500
TZOFFSETTO:-0400
TZNAME:EDT
END:DAYLIGHT
END:VTIMEZONE
END:VCALENDAR