BEGIN:VCALENDAR
VERSION:2.0
PRODID:-//wp-events-plugin.com//6.4.6.4//EN
TZID:America/Detroit
X-WR-TIMEZONE:America/Detroit
BEGIN:VEVENT
UID:0-116@sites.udmercy.edu
DTSTART;TZID=America/Detroit:20221130T163000
DTEND;TZID=America/Detroit:20221130T190000
DTSTAMP:20221031T191557Z
URL:https://sites.udmercy.edu/campusconnection/events/de-stress-fest-chris
 tmas-tree-lighting/
SUMMARY:De-Stress Fest &amp\; Christmas Tree Lighting
DESCRIPTION:Don your best holiday sweater and get into the Christmas cheer 
 with your fellow Titans during the Christmas Tree Lighting and De-Street F
 est on Wednesday\, Nov. 30 from 4:30-7 p.m. in the Student Fitness Cente
 r. The tree lighting ceremony begins at 5 p.m.\n\nBeyond the lighting of t
 he Christmas tree\, students can participate in "Elf Training School" game
 s\, including an indoor snowball fight and Christmas-themed sack race. Stu
 dents will have the opportunity to hone their crafting abilities by making
  lip balm and ornaments.\n\nHot chocolate\, punch and a variety of holiday
  treats will be served and live music will be coordinated by University Mi
 nistry. The Student Success Center's service dog\, Bentley\, will also be 
 in attendance.\n\nThe event concludes with a 3-on-3 intramural basketball 
 tournament\, which begins at 7 p.m. Interested participants and teams may 
 sign-up at imleagues.com/udmercy.\n\nThe event is co-sponsored by Universi
 ty Ministry\, Student Life\, Residence Life\, the Student Fitness Center a
 nd Wellness Center.
LOCATION:Student Fitness Center\, 4001 W. McNichols Road\, Detroit\, MI\, 4
 8221\, United States
X-APPLE-STRUCTURED-LOCATION;VALUE=URI;X-ADDRESS=4001 W. McNichols Road\, De
 troit\, MI\, 48221\, United States;X-APPLE-RADIUS=100;X-TITLE=Student Fitn
 ess Center:geo:0,0
END:VEVENT
BEGIN:VTIMEZONE
TZID:America/Detroit
X-LIC-LOCATION:America/Detroit
BEGIN:STANDARD
DTSTART:20221106T010000
TZOFFSETFROM:-0400
TZOFFSETTO:-0500
TZNAME:EST
END:STANDARD
END:VTIMEZONE
END:VCALENDAR