BEGIN:VCALENDAR
VERSION:2.0
PRODID:-//wp-events-plugin.com//6.4.6.4//EN
TZID:America/Detroit
X-WR-TIMEZONE:America/Detroit
BEGIN:VEVENT
UID:0-473@sites.udmercy.edu
DTSTART;TZID=America/Detroit:20240903T090000
DTEND;TZID=America/Detroit:20240906T180000
DTSTAMP:20240830T200622Z
URL:https://sites.udmercy.edu/campusconnection/events/dedalo-minosse-inter
 national-road-show-exhibit-and-panel/
SUMMARY:SACD hosting Dedalo Minosse International Road Show exhibit and pan
 el
DESCRIPTION:Detroit Mercy's School of Architecture and Community Developmen
 t (SACD) and the Consulate of Italy in Detroit are co-hosting a multinatio
 nal exhibition and panel discussion on Wednesday\, Sept. 4 as part of the 
 2024 Detroit Month of Design.\n\nThe opening reception is from 4:30-5:30 p
 .m. and the panel discussion follows from 5:30-7 p.m. The exhibit hours ar
 e from 9 a.m. to 5 p.m. from Tuesday\, Sept. 3 through Friday\, Sept. 6. B
 oth are inside the Loranger Architecture Building on the McNichols Campus.
 \n\nThe exhibition and special panel discussion will highlight the Dedalo 
 Minosse International Prize for Commissioning a Building\, which is a comp
 etition presented by ALA Assoarchitetti and Regione del Veneto\, Italy. Th
 e distinctive Prize\, founded in 1997\, has had a long connection with Det
 roit\, as SACD's Detroit Collaborative Design Center won the Prize in 2001
  and 2011. Dean Dan Pitera has also served on the project selection team s
 ince 2014.\n\nThis biannual event has the mission to uplift the "Client" a
 s a potential protagonist in the architectural design and construction pro
 cess. The competition founders believe that special attention should be gi
 ven to the dynamic collaborative work required the architect and the clien
 t\, supported by the constructors and governmental agencies.\n\nThe exhibi
 t is composted of highlights of the top prize winners of the latest editio
 n of the awards\, which includes the Marlon Blackwell designed Early Child
 hood Center on Marygrove's Campus on McNichols Road. Approximately 20 arch
 itects and designers are exhibited with projects from across the globe. Th
 e panel discussion will feature Blackwell or Marlon Blackwell Architects\,
  Marcella Gabbiani\, the Director of the Dedalo Minosse Prize\, and Marco 
 Mani of Guicciardini and Magni Architects\, one of the other winning archi
 tects.
LOCATION:Loranger Architecture Exhibition Space\, 4001 W. McNichols Road\, 
 Detroit\, Michigan\, 48221\, United States
X-APPLE-STRUCTURED-LOCATION;VALUE=URI;X-ADDRESS=4001 W. McNichols Road\, De
 troit\, Michigan\, 48221\, United States;X-APPLE-RADIUS=100;X-TITLE=Lorang
 er Architecture Exhibition Space:geo:0,0
END:VEVENT
BEGIN:VTIMEZONE
TZID:America/Detroit
X-LIC-LOCATION:America/Detroit
BEGIN:DAYLIGHT
DTSTART:20240310T030000
TZOFFSETFROM:-0500
TZOFFSETTO:-0400
TZNAME:EDT
END:DAYLIGHT
END:VTIMEZONE
END:VCALENDAR