BEGIN:VCALENDAR
VERSION:2.0
PRODID:-//wp-events-plugin.com//6.4.6.4//EN
TZID:America/Detroit
X-WR-TIMEZONE:America/Detroit
BEGIN:VEVENT
UID:0-595@sites.udmercy.edu
DTSTART;TZID=America/Detroit:20241114T143000
DTEND;TZID=America/Detroit:20241114T143000
DTSTAMP:20241101T011918Z
URL:https://sites.udmercy.edu/campusconnection/events/dedication-of-mcshan
 e-maker-space-collaboratory/
SUMMARY:Dedication of McShane Maker Space &amp\; Collaboratory
DESCRIPTION:Dean Katherine Snyder and the College of Engineering &amp\; Sci
 ence are excited to formally recognize the opening and dedication of the n
 ewly renovated Engineering Annex as the McShane Maker Space &amp\; Collabo
 ratory.\n\nThe new space is made possibly by the generosity of Steve '66 a
 nd Kathy McShane and other committed supports of the University.\n\nAll ar
 e welcome within the Detroit Mercy community to attend Thursday\, Nov. 14 
 at 2:30 p.m. in the Engineering High Bay. The dedication of the new space 
 with a ribbon cutting and blessing begins at 3 p.m.\n\nRSVP responses are 
 greatly appreciated in advance of the event by Monday\, Nov. 11.
LOCATION:High Bay\, Engineering &amp\; Science Building\, 4001 W. McNichols
  Road\, Detroit\, Michigan\, 48221\, United States
X-APPLE-STRUCTURED-LOCATION;VALUE=URI;X-ADDRESS=4001 W. McNichols Road\, De
 troit\, Michigan\, 48221\, United States;X-APPLE-RADIUS=100;X-TITLE=High B
 ay\, Engineering & Science Building:geo:0,0
END:VEVENT
BEGIN:VTIMEZONE
TZID:America/Detroit
X-LIC-LOCATION:America/Detroit
BEGIN:STANDARD
DTSTART:20241103T010000
TZOFFSETFROM:-0400
TZOFFSETTO:-0500
TZNAME:EST
END:STANDARD
END:VTIMEZONE
END:VCALENDAR