BEGIN:VCALENDAR
VERSION:2.0
PRODID:-//wp-events-plugin.com//6.4.6.4//EN
TZID:America/Detroit
X-WR-TIMEZONE:America/Detroit
BEGIN:VEVENT
UID:0-1028@sites.udmercy.edu
DTSTART;TZID=America/Detroit:20260306T090000
DTEND;TZID=America/Detroit:20260306T180000
DTSTAMP:20260209T174359Z
URL:https://sites.udmercy.edu/campusconnection/events/detroit-mercy-law-re
 view-110th-symposium/
SUMMARY:Detroit Mercy Law Review 110th symposium
DESCRIPTION:Detroit Mercy Law Review will host its 110th annual symposium t
 itled "From Policy to Practice: Navigating AI in the Legal Profession\," o
 n Friday\, March 6\, from 9 a.m. to 6 p.m.\, at the Riverfront Campus.\n\n
 As AI changes how lawyers conduct research\, draft documents\, advise clie
 nts and argue cases\, it offers many benefits\, but it also raises importa
 nt ethical\, legal and professional concerns.\n\nThis free symposium explo
 res how AI is changing the practice of law and how lawyers can use these n
 ew tools effectively while also navigating the legal\, ethical and policy 
 issues that come with them.\n\nThe Detroit Mercy Law Review welcomes legal
  professionals\, students and scholars from across the country to discuss 
 topics involving AI and its impact on the law.\n\nFor questions\, please c
 ontact Executive Symposium Editor Hannah Bloomfield at bloomfhj@udmercy.ed
 u.\nLearn more and register here.
LOCATION:Riverfront Campus\, University of Detroit Mercy\, 651 East Jeffers
 on Avenue\, Detroit\, Michigan\, 48226\, United States
X-APPLE-STRUCTURED-LOCATION;VALUE=URI;X-ADDRESS=651 East Jefferson Avenue\,
  Detroit\, Michigan\, 48226\, United States;X-APPLE-RADIUS=100;X-TITLE=Riv
 erfront Campus\, University of Detroit Mercy:geo:0,0
END:VEVENT
BEGIN:VTIMEZONE
TZID:America/Detroit
X-LIC-LOCATION:America/Detroit
BEGIN:STANDARD
DTSTART:20251102T010000
TZOFFSETFROM:-0400
TZOFFSETTO:-0500
TZNAME:EST
END:STANDARD
END:VTIMEZONE
END:VCALENDAR