BEGIN:VCALENDAR
VERSION:2.0
PRODID:-//wp-events-plugin.com//6.4.6.4//EN
TZID:America/Detroit
X-WR-TIMEZONE:America/Detroit
BEGIN:VEVENT
UID:0-750@sites.udmercy.edu
DTSTART;TZID=America/Detroit:20250307T090000
DTEND;TZID=America/Detroit:20250307T180000
DTSTAMP:20250219T220328Z
URL:https://sites.udmercy.edu/campusconnection/events/detroit-mercy-law-re
 view-symposium/
SUMMARY:Detroit Mercy Law Review Symposium
DESCRIPTION:Detroit Mercy Law Review hosts its 109th annual symposium\, tit
 led "From Theory to Practice: Mastering the Art of Effective Legal Advocac
 y" on Friday\, March 7 from 9 a.m.-6 p.m. The symposium will take place at
  Detroit Mercy's Riverfront Campus\, located at 651 E. Jefferson Avenue in
  Detroit.\n\nThe Detroit Mercy Law Review welcomes scholars\, legal profes
 sionals and other stakeholders from across the country to discuss topics i
 nvolving effective legal advocacy.\n\nThis symposium topic seeks to delve 
 into the nuanced skills\, methodologies and strategic innovations that tra
 nsform legal theory into effective advocacy. By fostering a dialogue among
  leading practitioners and scholars\, we aim to explore how young lawyers 
 can develop the necessary advocacy skills to excel in litigation or transa
 ctional practice\, focusing on advanced strategies and techniques that pro
 ffer successful client outcomes both in and out of the courtroom. Particip
 ants will gain insights into not only the practical mechanics of advocacy\
 , but also the broader implications for justice\, policy and societal chan
 ge.\n\nFor information about the schedule of events\, panelists and more\,
  please visit the Law Review Symposium website.\nRegister Here!
LOCATION:Riverfront Campus\, University of Detroit Mercy\, 651 East Jeffers
 on Avenue\, Detroit\, Michigan\, 48226\, United States
X-APPLE-STRUCTURED-LOCATION;VALUE=URI;X-ADDRESS=651 East Jefferson Avenue\,
  Detroit\, Michigan\, 48226\, United States;X-APPLE-RADIUS=100;X-TITLE=Riv
 erfront Campus\, University of Detroit Mercy:geo:0,0
END:VEVENT
BEGIN:VTIMEZONE
TZID:America/Detroit
X-LIC-LOCATION:America/Detroit
BEGIN:STANDARD
DTSTART:20241103T010000
TZOFFSETFROM:-0400
TZOFFSETTO:-0500
TZNAME:EST
END:STANDARD
END:VTIMEZONE
END:VCALENDAR