BEGIN:VCALENDAR
VERSION:2.0
PRODID:-//wp-events-plugin.com//6.4.6.4//EN
TZID:America/Detroit
X-WR-TIMEZONE:America/Detroit
BEGIN:VEVENT
UID:0-594@sites.udmercy.edu
DTSTART;TZID=America/Detroit:20241122T193000
DTEND;TZID=America/Detroit:20241122T193000
DTSTAMP:20241119T140927Z
URL:https://sites.udmercy.edu/campusconnection/events/detroit-mercy-theatr
 elab-presents-ripped-by-rachel-bublitz/
SUMMARY:Detroit Mercy TheatreLab presents 'Ripped' by Rachel Bublitz
DESCRIPTION:Detroit Mercy Theatre Company’s TheatreLab series presents Ri
 pped\, the captivating play by Rachel Bublitz. Lucy\, a freshman in colleg
 e\, struggles to balance her old life with the new\, and a troubling encou
 nter forces her to confront questions of consent. This powerful play weave
 s through time\, revealing the complexities of her relationships and the e
 vents that shape her uncertainty. Don’t miss this compelling exploration
  of memory\, consent and the search for clarity.\n\nThis one-night-only pe
 rformance takes place on Friday\, Nov. 22 at 7:30 p.m. at Live6 Alliance E
 vent Space located at 7426 W. McNichols Rd.\, Detroit. Tickets for this ev
 ent are FREE but limited.\n\nDirected by Mycah Artis\, this production is 
 in partnership with University of Detroit Mercy’s Office of Equal Opport
 unity.\n\nWarning: This play contains adult subject matter and sexual viol
 ence and is not recommended for those under the age of 13.\nReserve ticket
 s here!
LOCATION:Live6 Alliance Event Space\, 7426 W. McNichols Road\, Detroit\, 48
 221\, United States
X-APPLE-STRUCTURED-LOCATION;VALUE=URI;X-ADDRESS=7426 W. McNichols Road\, De
 troit\, 48221\, United States;X-APPLE-RADIUS=100;X-TITLE=Live6 Alliance Ev
 ent Space:geo:0,0
END:VEVENT
BEGIN:VTIMEZONE
TZID:America/Detroit
X-LIC-LOCATION:America/Detroit
BEGIN:STANDARD
DTSTART:20241103T010000
TZOFFSETFROM:-0400
TZOFFSETTO:-0500
TZNAME:EST
END:STANDARD
END:VTIMEZONE
END:VCALENDAR