BEGIN:VCALENDAR
VERSION:2.0
PRODID:-//wp-events-plugin.com//6.4.6.4//EN
TZID:America/Detroit
X-WR-TIMEZONE:America/Detroit
BEGIN:VEVENT
UID:0-3@sites.udmercy.edu
DTSTART;TZID=America/Detroit:20220425T173000
DTEND;TZID=America/Detroit:20220425T183000
DTSTAMP:20220413T144300Z
URL:https://sites.udmercy.edu/campusconnection/events/dewitt-c-holbrook-le
 cture-on-social-justice/
SUMMARY:Dewitt C. Holbrook Lecture on Social Justice
DESCRIPTION:Detroit Mercy School of Law will host the fourth annual Dewitt 
 C. Holbrook Lecture on Social Justice on Monday\, April 25 at 5:30 p.m.\n\
 nThe lecture series\, hosted in Room 252 of the School of Law and virtuall
 y\, provides leaders in the legal profession a forum to address issues on 
 social justice law and policy.\n\nThe Hon. Rowan D. Wilson\, associate jud
 ge of the Court of Appeals\, State of New York\, will give this year’s p
 resentation\, titled “Outside In: Perspectives on Criminal Law and Proce
 dure from a Former Outsider.” Wilson will share insight on various aspec
 ts and issues of criminal law and procedure while deciding on cases from t
 he bench.\n\nMasks are required for in-person attendees.\nAdditional infor
 mation and registration.
LOCATION:School of Law Room 252\, 651 East Jefferson Avenue\, Detroit\, MI\
 , 48226\, United States
X-APPLE-STRUCTURED-LOCATION;VALUE=URI;X-ADDRESS=651 East Jefferson Avenue\,
  Detroit\, MI\, 48226\, United States;X-APPLE-RADIUS=100;X-TITLE=School of
  Law Room 252:geo:0,0
END:VEVENT
BEGIN:VTIMEZONE
TZID:America/Detroit
X-LIC-LOCATION:America/Detroit
BEGIN:DAYLIGHT
DTSTART:20220313T030000
TZOFFSETFROM:-0500
TZOFFSETTO:-0400
TZNAME:EDT
END:DAYLIGHT
END:VTIMEZONE
END:VCALENDAR