BEGIN:VCALENDAR
VERSION:2.0
PRODID:-//wp-events-plugin.com//6.4.6.4//EN
TZID:America/Detroit
X-WR-TIMEZONE:America/Detroit
BEGIN:VEVENT
UID:0-143@sites.udmercy.edu
DTSTART;TZID=America/Detroit:20230125T123000
DTEND;TZID=America/Detroit:20230125T143000
DTSTAMP:20230110T140507Z
URL:https://sites.udmercy.edu/campusconnection/events/diversity-fair-and-p
 anel-discussion/
SUMMARY:Diversity Fair and Panel Discussion
DESCRIPTION:Panelists includes Michigan Attorney General Dana Nessel\, Judg
 e Terrance Keith and Dr. Bertram Marks.
LOCATION:Law School Atrium\, 651 E. Jefferson\, Detroit\, Michigan\, 48226\
 , United States
X-APPLE-STRUCTURED-LOCATION;VALUE=URI;X-ADDRESS=651 E. Jefferson\, Detroit\
 , Michigan\, 48226\, United States;X-APPLE-RADIUS=100;X-TITLE=Law School A
 trium:geo:0,0
END:VEVENT
BEGIN:VTIMEZONE
TZID:America/Detroit
X-LIC-LOCATION:America/Detroit
BEGIN:STANDARD
DTSTART:20221106T010000
TZOFFSETFROM:-0400
TZOFFSETTO:-0500
TZNAME:EST
END:STANDARD
END:VTIMEZONE
END:VCALENDAR